BEGIN:VCALENDAR
VERSION:2.0
PRODID:-//Alfaclub e.V. - ECPv6.15.20//NONSGML v1.0//EN
CALSCALE:GREGORIAN
METHOD:PUBLISH
X-ORIGINAL-URL:https://alfaclub.de
X-WR-CALDESC:Veranstaltungen für Alfaclub e.V.
REFRESH-INTERVAL;VALUE=DURATION:PT1H
X-Robots-Tag:noindex
X-PUBLISHED-TTL:PT1H
BEGIN:VTIMEZONE
TZID:Europe/Berlin
BEGIN:DAYLIGHT
TZOFFSETFROM:+0100
TZOFFSETTO:+0200
TZNAME:CEST
DTSTART:20250330T010000
END:DAYLIGHT
BEGIN:STANDARD
TZOFFSETFROM:+0200
TZOFFSETTO:+0100
TZNAME:CET
DTSTART:20251026T010000
END:STANDARD
BEGIN:DAYLIGHT
TZOFFSETFROM:+0100
TZOFFSETTO:+0200
TZNAME:CEST
DTSTART:20260329T010000
END:DAYLIGHT
BEGIN:STANDARD
TZOFFSETFROM:+0200
TZOFFSETTO:+0100
TZNAME:CET
DTSTART:20261025T010000
END:STANDARD
BEGIN:DAYLIGHT
TZOFFSETFROM:+0100
TZOFFSETTO:+0200
TZNAME:CEST
DTSTART:20270328T010000
END:DAYLIGHT
BEGIN:STANDARD
TZOFFSETFROM:+0200
TZOFFSETTO:+0100
TZNAME:CET
DTSTART:20271031T010000
END:STANDARD
END:VTIMEZONE
BEGIN:VEVENT
DTSTART;VALUE=DATE:20260228
DTEND;VALUE=DATE:20260302
DTSTAMP:20260422T180250
CREATED:20251221T152537Z
LAST-MODIFIED:20251221T152537Z
UID:10004157-1772236800-1772409599@alfaclub.de
SUMMARY:RT Kiel Knipp-Tour (Bremen) und Schifffahrtsmuseum Bremerhaven
DESCRIPTION:Weitere Info und Anmeldung beim Regionaltreff Kiel
URL:https://alfaclub.de/event/rt-kiel-knipp-tour-bremen-und-schifffahrtsmuseum-bremerhaven
CATEGORIES:Alfaclub Regional Veranstaltung,Kiel
ORGANIZER;CN="Alfaclub e.V.":MAILTO:info@alfaclub.de
END:VEVENT
END:VCALENDAR