BEGIN:VCALENDAR
VERSION:2.0
PRODID:-//Alfaclub e.V. - ECPv6.15.20//NONSGML v1.0//EN
CALSCALE:GREGORIAN
METHOD:PUBLISH
X-ORIGINAL-URL:https://alfaclub.de
X-WR-CALDESC:Veranstaltungen für Alfaclub e.V.
REFRESH-INTERVAL;VALUE=DURATION:PT1H
X-Robots-Tag:noindex
X-PUBLISHED-TTL:PT1H
BEGIN:VTIMEZONE
TZID:Europe/Berlin
BEGIN:DAYLIGHT
TZOFFSETFROM:+0100
TZOFFSETTO:+0200
TZNAME:CEST
DTSTART:20250330T010000
END:DAYLIGHT
BEGIN:STANDARD
TZOFFSETFROM:+0200
TZOFFSETTO:+0100
TZNAME:CET
DTSTART:20251026T010000
END:STANDARD
BEGIN:DAYLIGHT
TZOFFSETFROM:+0100
TZOFFSETTO:+0200
TZNAME:CEST
DTSTART:20260329T010000
END:DAYLIGHT
BEGIN:STANDARD
TZOFFSETFROM:+0200
TZOFFSETTO:+0100
TZNAME:CET
DTSTART:20261025T010000
END:STANDARD
BEGIN:DAYLIGHT
TZOFFSETFROM:+0100
TZOFFSETTO:+0200
TZNAME:CEST
DTSTART:20270328T010000
END:DAYLIGHT
BEGIN:STANDARD
TZOFFSETFROM:+0200
TZOFFSETTO:+0100
TZNAME:CET
DTSTART:20271031T010000
END:STANDARD
END:VTIMEZONE
BEGIN:VEVENT
DTSTART;VALUE=DATE:20260130
DTEND;VALUE=DATE:20260202
DTSTAMP:20260422T145825
CREATED:20251002T172152Z
LAST-MODIFIED:20260206T205226Z
UID:10003913-1769731200-1769990399@alfaclub.de
SUMMARY:Bremen Classic Motorshow 2026
DESCRIPTION:Alfaclub Stand Bremen Classic Motorshow 2026Alfaclub Stand Bremen Classic Motorshow 2026Alfaclub Stand Bremen Classic Motorshow 2026Alfaclub Stand Bremen Classic Motorshow 2026Alfaclub Stand Bremen Classic Motorshow 2026Alfaclub Stand Bremen Classic Motorshow 2026
URL:https://alfaclub.de/event/bremen-classic-motorshow-2026
LOCATION:Messe Bremen\, Findorffstraße 101\, Bremen\, 28215\, Germany
CATEGORIES:Messe,Rückspiegel
ATTACH;FMTTYPE=image/jpeg:https://alfaclub.de/wp-content/uploads/Bremen_Classic_2026_001-e1774634406396.jpg
ORGANIZER;CN="Alfaclub e.V.":MAILTO:info@alfaclub.de
END:VEVENT
BEGIN:VEVENT
DTSTART;TZID=Europe/Berlin:20260130T190000
DTEND;TZID=Europe/Berlin:20260130T233000
DTSTAMP:20260422T145825
CREATED:20250126T112822Z
LAST-MODIFIED:20260106T113653Z
UID:10003420-1769799600-1769815800@alfaclub.de
SUMMARY:Regionaltreff Kinzigtal-Spessart
DESCRIPTION:
URL:https://alfaclub.de/event/regionaltreff-kinzigtal-spessart/2026-01-30
LOCATION:Pera Restaurant & Cocktail Lounge\, Am Bahnhof 1\, Langenselbold\, 63505\, Germany
CATEGORIES:Alfaclub Regionaltreff,Kinzigtal-Spessart
ORGANIZER;CN="Alfaclub e.V.":MAILTO:info@alfaclub.de
END:VEVENT
BEGIN:VEVENT
DTSTART;TZID=Europe/Berlin:20260201T173000
DTEND;TZID=Europe/Berlin:20260201T233000
DTSTAMP:20260422T145825
CREATED:20250807T154151Z
LAST-MODIFIED:20260106T113317Z
UID:10002471-1769967000-1769988600@alfaclub.de
SUMMARY:Regionaltreff Borken
DESCRIPTION:
URL:https://alfaclub.de/event/regionaltreff-borken-2-2/2026-02-01
LOCATION:Hotel-Restaurant Schmelting\, Velener Straße 3\, Reken\, 48683\, Germany
CATEGORIES:Alfaclub Regionaltreff,Borken
ORGANIZER;CN="Alfaclub e.V.":MAILTO:info@alfaclub.de
END:VEVENT
BEGIN:VEVENT
DTSTART;TZID=Europe/Berlin:20260203T200000
DTEND;TZID=Europe/Berlin:20260203T233000
DTSTAMP:20260422T145825
CREATED:20231020T195437Z
LAST-MODIFIED:20260106T113030Z
UID:10001076-1770148800-1770161400@alfaclub.de
SUMMARY:Regionaltreff Ostwestfalen
DESCRIPTION:
URL:https://alfaclub.de/event/regionaltreff-ostwestfalen/2026-02-03
LOCATION:Allegro Habichtshöhe\, Bodelschwinghstraße 79\, Bielefeld\, 33604\, Germany
CATEGORIES:Alfaclub Regionaltreff,Ostwestfalen
END:VEVENT
BEGIN:VEVENT
DTSTART;TZID=Europe/Berlin:20260204T180000
DTEND;TZID=Europe/Berlin:20260204T233000
DTSTAMP:20260422T145825
CREATED:20240510T161034Z
LAST-MODIFIED:20260106T112605Z
UID:10002901-1770228000-1770247800@alfaclub.de
SUMMARY:Regionaltreff Berlin
DESCRIPTION:
URL:https://alfaclub.de/event/regionaltreff-berlin-2/2026-02-04
LOCATION:Restaurant in der Classic Remise\, Wiebestraße 36-37\, Berlin\, 10553\, Germany
CATEGORIES:Alfaclub Regionaltreff,Berlin
END:VEVENT
BEGIN:VEVENT
DTSTART;TZID=Europe/Berlin:20260204T200000
DTEND;TZID=Europe/Berlin:20260204T233000
DTSTAMP:20260422T145825
CREATED:20231020T212547Z
LAST-MODIFIED:20260106T114631Z
UID:10002087-1770235200-1770247800@alfaclub.de
SUMMARY:Squadra Sportiva Classica
DESCRIPTION:
URL:https://alfaclub.de/event/squadra-sportiva-classica/2026-02-04
LOCATION:Restaurant Schloss Reichenbach\, Schlossweg 3\, Zollikofen\, 3052\, Switzerland
CATEGORIES:Alfaclub Regionaltreff,Squadra Sportiva Classica
END:VEVENT
BEGIN:VEVENT
DTSTART;TZID=Europe/Berlin:20260205T190000
DTEND;TZID=Europe/Berlin:20260205T233000
DTSTAMP:20260422T145826
CREATED:20231020T195226Z
LAST-MODIFIED:20251221T150417Z
UID:10001015-1770318000-1770334200@alfaclub.de
SUMMARY:Regionaltreff Hannover
DESCRIPTION:
URL:https://alfaclub.de/event/regionaltreff-hannover/2026-02-05
LOCATION:Ristorante La Rocca\, Hildesheimer Straße 572\, Laatzen-Gleidingen\, 30880\, Germany
CATEGORIES:Alfaclub Regionaltreff,Hannover
END:VEVENT
BEGIN:VEVENT
DTSTART;TZID=Europe/Berlin:20260206T180000
DTEND;TZID=Europe/Berlin:20260206T233000
DTSTAMP:20260422T145826
CREATED:20241230T171015Z
LAST-MODIFIED:20260120T150933Z
UID:10003358-1770400800-1770420600@alfaclub.de
SUMMARY:Regionaltreff Ruhrgebiet-West
DESCRIPTION:
URL:https://alfaclub.de/event/regionaltreff-ruhrgebiet-west-7/2026-02-06
LOCATION:MOTO59® FOODGARAGE\, Doncasterplatz 1\, Herten\, 45699\, Germany
CATEGORIES:Alfaclub Regionaltreff,Ruhrgebiet-West
ORGANIZER;CN="Alfaclub e.V.":MAILTO:info@alfaclub.de
END:VEVENT
BEGIN:VEVENT
DTSTART;TZID=Europe/Berlin:20260206T183000
DTEND;TZID=Europe/Berlin:20260206T233000
DTSTAMP:20260422T145826
CREATED:20240420T094503Z
LAST-MODIFIED:20260106T114420Z
UID:10002842-1770402600-1770420600@alfaclub.de
SUMMARY:Regionaltreff Augsburg
DESCRIPTION:
URL:https://alfaclub.de/event/regionaltreff-augsburg/2026-02-06
LOCATION:Pizzeria Da Pino Goldener Stern\, Augsburger Straße 24\, Affing/Mühlhausen\, 8644\, Germany
CATEGORIES:Alfaclub Regionaltreff,Augsburg
ORGANIZER;CN="Alfaclub e.V.":MAILTO:info@alfaclub.de
END:VEVENT
BEGIN:VEVENT
DTSTART;TZID=Europe/Berlin:20260206T190000
DTEND;TZID=Europe/Berlin:20260206T233000
DTSTAMP:20260422T145826
CREATED:20251016T134317Z
LAST-MODIFIED:20260106T113244Z
UID:10001137-1770404400-1770420600@alfaclub.de
SUMMARY:Regionaltreff Bergisches Land
DESCRIPTION:
URL:https://alfaclub.de/event/regionaltreff-bergisches-land-2/2026-02-06
LOCATION:RISTORANTE C. PIO\, Bahnhofstr. 52\, Haan\, 42781\, Germany
CATEGORIES:Alfaclub Regionaltreff,Bergisches Land
END:VEVENT
BEGIN:VEVENT
DTSTART;TZID=Europe/Berlin:20260206T193000
DTEND;TZID=Europe/Berlin:20260206T233000
DTSTAMP:20260422T145826
CREATED:20231229T092822Z
LAST-MODIFIED:20260106T114127Z
UID:10002337-1770406200-1770420600@alfaclub.de
SUMMARY:Regionaltreff Württemberg Göppingen
DESCRIPTION:Um Anmeldung unter wuerttemberg@alfaclub.de wird gebeten\, damit wir alle einen Platz bekommen und trotzdem keine Kapazitäten blockieren
URL:https://alfaclub.de/event/regionaltreff-wuerttemberg-goeppingen-2/2026-02-06
LOCATION:Pizzeria idea im Schützenhaus\, Waldstraße 42\, Göppingen\, 73035\, Germany
CATEGORIES:Alfaclub Regionaltreff,Württemberg
END:VEVENT
BEGIN:VEVENT
DTSTART;TZID=Europe/Berlin:20260206T193000
DTEND;TZID=Europe/Berlin:20260206T233000
DTSTAMP:20260422T145826
CREATED:20240311T204311Z
LAST-MODIFIED:20260106T114246Z
UID:10002776-1770406200-1770420600@alfaclub.de
SUMMARY:Regionaltreff Balingen
DESCRIPTION:
URL:https://alfaclub.de/event/regionaltreff-balingen-2/2026-02-06
LOCATION:Aquila Ristorante & Pizzeria\, Balinger Str. 92\, Balingen-Frommern\, 72336\, Germany
CATEGORIES:Alfaclub Regionaltreff,Balingen
END:VEVENT
BEGIN:VEVENT
DTSTART;TZID=Europe/Berlin:20260206T200000
DTEND;TZID=Europe/Berlin:20260206T200000
DTSTAMP:20260422T145826
CREATED:20231020T211928Z
LAST-MODIFIED:20260106T114526Z
UID:10001932-1770408000-1770408000@alfaclub.de
SUMMARY:Regionaltreff Regensburg
DESCRIPTION:
URL:https://alfaclub.de/event/regionaltreff-regensburg/2026-02-06
LOCATION:Ristorante Pizzeria Mamma Rosa Abensberg\, Steinbruchstraße 1\, Abensberg\, 93326\, Germany
CATEGORIES:Alfaclub Regionaltreff,Regensburg
END:VEVENT
BEGIN:VEVENT
DTSTART;TZID=Europe/Berlin:20260207T193000
DTEND;TZID=Europe/Berlin:20260207T233000
DTSTAMP:20260422T145826
CREATED:20231012T193147Z
LAST-MODIFIED:20260106T113955Z
UID:10000178-1770492600-1770507000@alfaclub.de
SUMMARY:Regionaltreff Rhein-Neckar
DESCRIPTION:
URL:https://alfaclub.de/event/regional-treff-rhein-neckar-2/2026-02-07
LOCATION:Ristorante Cavallino\, St.-Leoner-Str. 45\, Neulußheim\, 68809\, Germany
CATEGORIES:Rhein-Neckar
END:VEVENT
BEGIN:VEVENT
DTSTART;TZID=Europe/Berlin:20260210T190000
DTEND;TZID=Europe/Berlin:20260210T233000
DTSTAMP:20260422T145826
CREATED:20231020T195005Z
LAST-MODIFIED:20260106T112947Z
UID:10000954-1770750000-1770766200@alfaclub.de
SUMMARY:Regionaltreff Bremen
DESCRIPTION:
URL:https://alfaclub.de/event/regionaltreff-bremen/2026-02-10
LOCATION:La Gondola\, Bremer Str. 62\, Delmenhorst\, 27749\, Germany
CATEGORIES:Alfaclub Regionaltreff,Bremen
END:VEVENT
BEGIN:VEVENT
DTSTART;TZID=Europe/Berlin:20260211T190000
DTEND;TZID=Europe/Berlin:20260211T233000
DTSTAMP:20260422T145826
CREATED:20231012T204520Z
LAST-MODIFIED:20251221T135658Z
UID:10000404-1770836400-1770852600@alfaclub.de
SUMMARY:Regionaltreff Ruhrgebiet-Ost
DESCRIPTION:
URL:https://alfaclub.de/event/regionaltreff-ruhrgebiet-ost/2026-02-11
LOCATION:Ristorante – Pizzeria La Locanda\, Hammer Straße 120\, Unna\, 59425\, Germany
CATEGORIES:Alfaclub Regional Veranstaltung,Alfaclub Regionaltreff,Ruhrgebiet-Ost
ORGANIZER;CN="Alfaclub e.V.":MAILTO:info@alfaclub.de
END:VEVENT
BEGIN:VEVENT
DTSTART;TZID=Europe/Berlin:20260213T190000
DTEND;TZID=Europe/Berlin:20260213T233000
DTSTAMP:20260422T145826
CREATED:20231020T181935Z
LAST-MODIFIED:20251230T203528Z
UID:10000467-1771009200-1771025400@alfaclub.de
SUMMARY:Regionaltreff Halle/Saale-Leipzig
DESCRIPTION:
URL:https://alfaclub.de/event/regionaltreff-halle-saale-leipzig/2026-02-13
LOCATION:PELLORUS Restaurant & Café am Völkerschlachtdenkmal\, An der Tabaksmühle 21\, Leipzig\, 04277\, Germany
CATEGORIES:Alfaclub Regionaltreff,Halle/Saale-Leipzig
END:VEVENT
BEGIN:VEVENT
DTSTART;TZID=Europe/Berlin:20260213T200000
DTEND;TZID=Europe/Berlin:20260213T233000
DTSTAMP:20260422T145826
CREATED:20231020T200809Z
LAST-MODIFIED:20260106T113348Z
UID:10001322-1771012800-1771025400@alfaclub.de
SUMMARY:Regionaltreff Köln-Bonn-Aachen
DESCRIPTION:
URL:https://alfaclub.de/event/regionaltreff-koeln-bonn-aachen/2026-02-13
LOCATION:Ristorante Pizzeria Pinocchio\, Am Markt 23\, Zülpich\, 53909\, Germany
CATEGORIES:Alfaclub Regionaltreff,Köln-Bonn / Aachen
END:VEVENT
BEGIN:VEVENT
DTSTART;TZID=Europe/Berlin:20260214T100000
DTEND;TZID=Europe/Berlin:20260214T140000
DTSTAMP:20260422T145826
CREATED:20250710T162458Z
LAST-MODIFIED:20260106T114455Z
UID:10003841-1771063200-1771077600@alfaclub.de
SUMMARY:Regionaltreff Ulm / Neu-Ulm
DESCRIPTION:
URL:https://alfaclub.de/event/regionaltreff-ulm/2026-02-14
LOCATION:Autohaus Hofmann & Hofmann\, Herrlinger Straße 50\, Ulm\, 89081\, Germany
CATEGORIES:Alfaclub Regionaltreff,Ulm / Neu-Ulm
ORGANIZER;CN="Alfaclub e.V.":MAILTO:info@alfaclub.de
END:VEVENT
BEGIN:VEVENT
DTSTART;TZID=Europe/Berlin:20260214T100000
DTEND;TZID=Europe/Berlin:20260214T160000
DTSTAMP:20260422T145826
CREATED:20250405T202150Z
LAST-MODIFIED:20260106T114214Z
UID:10003756-1771063200-1771084800@alfaclub.de
SUMMARY:Regionaltreff Baden
DESCRIPTION:
URL:https://alfaclub.de/event/regionaltreff-baden/2026-02-14
LOCATION:Autohaus Brohl\, Im Steingerüst 23\, Rastatt\, 76437\, Germany
CATEGORIES:Alfaclub Regionaltreff,Baden
ORGANIZER;CN="Alfaclub e.V.":MAILTO:info@alfaclub.de
END:VEVENT
BEGIN:VEVENT
DTSTART;TZID=Europe/Berlin:20260214T183000
DTEND;TZID=Europe/Berlin:20260214T183000
DTSTAMP:20260422T145826
CREATED:20231020T212247Z
LAST-MODIFIED:20260106T114558Z
UID:10001993-1771093800-1771093800@alfaclub.de
SUMMARY:Regionaltreff Thüringen
DESCRIPTION:
URL:https://alfaclub.de/event/regionaltreff-thueringen/2026-02-14
LOCATION:Ristorante 12 Apostel\, Rosenstraße 2\, Arnstadt\, 99310\, Germany
CATEGORIES:Alfaclub Regionaltreff,Thüringen
END:VEVENT
BEGIN:VEVENT
DTSTART;TZID=Europe/Berlin:20260214T190000
DTEND;TZID=Europe/Berlin:20260214T233000
DTSTAMP:20260422T145826
CREATED:20230802T085331Z
LAST-MODIFIED:20251221T142907Z
UID:10003041-1771095600-1771111800@alfaclub.de
SUMMARY:Regionaltreff Nürnberger Land
DESCRIPTION:
URL:https://alfaclub.de/event/regional-treff-nuernberger-land/2026-02-14
LOCATION:Ristorante Pizzeria Francesco\, Martin-Luther-Str. 12\, Hersbruck\, 91217\, Germany
CATEGORIES:Alfaclub Regionaltreff,Nürnberger Land
END:VEVENT
BEGIN:VEVENT
DTSTART;TZID=Europe/Berlin:20260214T190000
DTEND;TZID=Europe/Berlin:20260214T233000
DTSTAMP:20260422T145826
CREATED:20231020T203042Z
LAST-MODIFIED:20260106T114045Z
UID:10001386-1771095600-1771111800@alfaclub.de
SUMMARY:Regionaltreff Taunus
DESCRIPTION:wechselnde Lokale im Hochtaunus- oder Wetteraukreis \nnähere Infos bei den Ansprechpartnern
URL:https://alfaclub.de/event/regionaltreff-taunus/2026-02-14
CATEGORIES:Alfaclub Regionaltreff,Taunus
END:VEVENT
BEGIN:VEVENT
DTSTART;TZID=Europe/Berlin:20260215T170000
DTEND;TZID=Europe/Berlin:20260215T233000
DTSTAMP:20260422T145826
CREATED:20250227T171808Z
LAST-MODIFIED:20260106T113211Z
UID:10001261-1771174800-1771198200@alfaclub.de
SUMMARY:Regionaltreff Niederrhein
DESCRIPTION:
URL:https://alfaclub.de/event/regionaltreff-niederrhein-2/2026-02-15
LOCATION:Haus Kretschmer\, Bülowstraße 10\, Voerde - Friedrichsfeld\, 46562\, Germany
CATEGORIES:Alfaclub Regionaltreff,Niederrhein
ORGANIZER;CN="Alfaclub e.V.":MAILTO:info@alfaclub.de
END:VEVENT
BEGIN:VEVENT
DTSTART;TZID=Europe/Berlin:20260215T180000
DTEND;TZID=Europe/Berlin:20260215T233000
DTSTAMP:20260422T145826
CREATED:20231020T190429Z
LAST-MODIFIED:20231020T190502Z
UID:10000589-1771178400-1771198200@alfaclub.de
SUMMARY:Regionaltreff Potsdam/Brandenburg
DESCRIPTION:Der Stammtisch des Regionaltreffs Potsdam/Brandenburg findet an jedem 3. oder 4. Sonntag des Monats um 18.00 Uhr statt!\nInformationen zu den genauen Terminen erhaltet Ihr unter potsdam@alfaclub.de
URL:https://alfaclub.de/event/regionaltreff-potsdam-brandenburg/2026-02-15
LOCATION:LOKalität an der Glienicker Brücke\, Berliner Straße 67\, Potsdam\, 14467\, Germany
CATEGORIES:Alfaclub Regionaltreff
END:VEVENT
BEGIN:VEVENT
DTSTART;TZID=Europe/Berlin:20260218T200000
DTEND;TZID=Europe/Berlin:20260218T233000
DTSTAMP:20260422T145826
CREATED:20231020T212547Z
LAST-MODIFIED:20260106T114631Z
UID:10002088-1771444800-1771457400@alfaclub.de
SUMMARY:Squadra Sportiva Classica
DESCRIPTION:
URL:https://alfaclub.de/event/squadra-sportiva-classica/2026-02-18
LOCATION:Restaurant Schloss Reichenbach\, Schlossweg 3\, Zollikofen\, 3052\, Switzerland
CATEGORIES:Alfaclub Regionaltreff,Squadra Sportiva Classica
END:VEVENT
BEGIN:VEVENT
DTSTART;VALUE=DATE:20260219
DTEND;VALUE=DATE:20260223
DTSTAMP:20260422T145826
CREATED:20251124T160620Z
LAST-MODIFIED:20260228T095709Z
UID:10003995-1771459200-1771804799@alfaclub.de
SUMMARY:Retro Classics Stuttgart 2026
DESCRIPTION:Alfaclub Stand Retro Classics Stuttgart 2026Alfaclub Stand Retro Classics Stuttgart 2026Alfaclub Stand Retro Classics Stuttgart 2026Alfaclub Stand Retro Classics Stuttgart 2026Alfaclub Stand Retro Classics Stuttgart 2026Alfaclub Stand Retro Classics Stuttgart 2026
URL:https://alfaclub.de/event/retro-classics-stuttgart-2026
LOCATION:Messe Stuttgart\, Messepiazza 1\, Stuttgart\, 70629\, Germany
CATEGORIES:Messe,Rückspiegel
ATTACH;FMTTYPE=image/jpeg:https://alfaclub.de/wp-content/uploads/Retro_Classics_Stuttgart__2026_001-e1774634330147.jpg
ORGANIZER;CN="Alfaclub e.V.":MAILTO:info@alfaclub.de
END:VEVENT
BEGIN:VEVENT
DTSTART;TZID=Europe/Berlin:20260220T183000
DTEND;TZID=Europe/Berlin:20260220T233000
DTSTAMP:20260422T145826
CREATED:20240607T163354Z
LAST-MODIFIED:20251221T151343Z
UID:10004031-1771612200-1771630200@alfaclub.de
SUMMARY:Regionaltreff Kiel
DESCRIPTION:wechselnde Lokale – weitere Info und Anmeldung beim Regionaltreff Kiel
URL:https://alfaclub.de/event/regionaltreff-kiel-2-2/2026-02-20
CATEGORIES:Alfaclub Regionaltreff,Kiel
ORGANIZER;CN="Alfaclub e.V.":MAILTO:info@alfaclub.de
END:VEVENT
BEGIN:VEVENT
DTSTART;TZID=Europe/Berlin:20260220T190000
DTEND;TZID=Europe/Berlin:20260220T233000
DTSTAMP:20260422T145826
CREATED:20231020T190927Z
LAST-MODIFIED:20260106T112731Z
UID:10003937-1771614000-1771630200@alfaclub.de
SUMMARY:Regionaltreff Hamburg
DESCRIPTION:
URL:https://alfaclub.de/event/regionaltreff-hamburg/2026-02-20
LOCATION:Ristorante Pannetteria\, Osdorfer Landstraße 4\, Hamburg\, 22607\, Germany
CATEGORIES:Hamburg
ORGANIZER;CN="Alfaclub e.V.":MAILTO:info@alfaclub.de
END:VEVENT
BEGIN:VEVENT
DTSTART;TZID=Europe/Berlin:20260220T190000
DTEND;TZID=Europe/Berlin:20260220T233000
DTSTAMP:20260422T145826
CREATED:20231020T212852Z
LAST-MODIFIED:20260106T114658Z
UID:10002186-1771614000-1771630200@alfaclub.de
SUMMARY:Regionaltreff Zürich
DESCRIPTION:
URL:https://alfaclub.de/event/regionaltreff-zuerich/2026-02-20
LOCATION:Regionaltreff Zürich\, Industriestrasse 27\, Gossau\, 8625\, Switzerland
CATEGORIES:Alfaclub Regionaltreff,Zürich
END:VEVENT
END:VCALENDAR