BEGIN:VCALENDAR
VERSION:2.0
PRODID:-//Alfaclub e.V. - ECPv6.15.20//NONSGML v1.0//EN
CALSCALE:GREGORIAN
METHOD:PUBLISH
X-ORIGINAL-URL:https://alfaclub.de
X-WR-CALDESC:Veranstaltungen für Alfaclub e.V.
REFRESH-INTERVAL;VALUE=DURATION:PT1H
X-Robots-Tag:noindex
X-PUBLISHED-TTL:PT1H
BEGIN:VTIMEZONE
TZID:Europe/Berlin
BEGIN:DAYLIGHT
TZOFFSETFROM:+0100
TZOFFSETTO:+0200
TZNAME:CEST
DTSTART:20220327T010000
END:DAYLIGHT
BEGIN:STANDARD
TZOFFSETFROM:+0200
TZOFFSETTO:+0100
TZNAME:CET
DTSTART:20221030T010000
END:STANDARD
BEGIN:DAYLIGHT
TZOFFSETFROM:+0100
TZOFFSETTO:+0200
TZNAME:CEST
DTSTART:20230326T010000
END:DAYLIGHT
BEGIN:STANDARD
TZOFFSETFROM:+0200
TZOFFSETTO:+0100
TZNAME:CET
DTSTART:20231029T010000
END:STANDARD
BEGIN:DAYLIGHT
TZOFFSETFROM:+0100
TZOFFSETTO:+0200
TZNAME:CEST
DTSTART:20240331T010000
END:DAYLIGHT
BEGIN:STANDARD
TZOFFSETFROM:+0200
TZOFFSETTO:+0100
TZNAME:CET
DTSTART:20241027T010000
END:STANDARD
BEGIN:DAYLIGHT
TZOFFSETFROM:+0100
TZOFFSETTO:+0200
TZNAME:CEST
DTSTART:20250330T010000
END:DAYLIGHT
BEGIN:STANDARD
TZOFFSETFROM:+0200
TZOFFSETTO:+0100
TZNAME:CET
DTSTART:20251026T010000
END:STANDARD
BEGIN:DAYLIGHT
TZOFFSETFROM:+0100
TZOFFSETTO:+0200
TZNAME:CEST
DTSTART:20260329T010000
END:DAYLIGHT
BEGIN:STANDARD
TZOFFSETFROM:+0200
TZOFFSETTO:+0100
TZNAME:CET
DTSTART:20261025T010000
END:STANDARD
END:VTIMEZONE
BEGIN:VEVENT
DTSTART;TZID=Europe/Berlin:20250404T180000
DTEND;TZID=Europe/Berlin:20250404T233000
DTSTAMP:20260420T123905
CREATED:20250111T141711Z
LAST-MODIFIED:20250115T092933Z
UID:10003407-1743789600-1743809400@alfaclub.de
SUMMARY:Regionaltreff Ruhrgebiet-West
DESCRIPTION: 
URL:https://alfaclub.de/event/regionaltreff-ruhrgebiet-west-8/2025-04-04
LOCATION:Capobianco al Fiume\, Grendtor 40\, Essen\, 45276\, Germany
CATEGORIES:Alfaclub Regionaltreff
ORGANIZER;CN="Alfaclub e.V.":MAILTO:info@alfaclub.de
END:VEVENT
BEGIN:VEVENT
DTSTART;TZID=Europe/Berlin:20250207T180000
DTEND;TZID=Europe/Berlin:20250207T233000
DTSTAMP:20260420T123905
CREATED:20250111T141711Z
LAST-MODIFIED:20250115T092933Z
UID:10003349-1738951200-1738971000@alfaclub.de
SUMMARY:Regionaltreff Ruhrgebiet-West
DESCRIPTION: 
URL:https://alfaclub.de/event/regionaltreff-ruhrgebiet-west-8/2025-02-07
LOCATION:Capobianco al Fiume\, Grendtor 40\, Essen\, 45276\, Germany
CATEGORIES:Alfaclub Regionaltreff
ORGANIZER;CN="Alfaclub e.V.":MAILTO:info@alfaclub.de
END:VEVENT
BEGIN:VEVENT
DTSTART;TZID=Europe/Berlin:20241004T183000
DTEND;TZID=Europe/Berlin:20241004T233000
DTSTAMP:20260420T123905
CREATED:20240123T175557Z
LAST-MODIFIED:20241008T173313Z
UID:10002646-1728066600-1728084600@alfaclub.de
SUMMARY:Regionaltreff Ruhrgebiet-West
DESCRIPTION:Weitere Info und Anmeldung beim Regionaltreff Ruhrgebiet-West
URL:https://alfaclub.de/event/regionaltreff-ruhrgebiet-west-unterwegs/2024-10-04
LOCATION:Capobianco al Fiume\, Grendtor 40\, Essen\, 45276\, Germany
CATEGORIES:Alfaclub Regionaltreff
ORGANIZER;CN="Alfaclub e.V.":MAILTO:info@alfaclub.de
END:VEVENT
BEGIN:VEVENT
DTSTART;TZID=Europe/Berlin:20240906T183000
DTEND;TZID=Europe/Berlin:20240906T213000
DTSTAMP:20260420T123905
CREATED:20240123T175557Z
LAST-MODIFIED:20241008T173313Z
UID:10002645-1725647400-1725658200@alfaclub.de
SUMMARY:Regionaltreff Ruhrgebiet-West
DESCRIPTION:Weitere Info und Anmeldung beim Regionaltreff Ruhrgebiet-West
URL:https://alfaclub.de/event/regionaltreff-ruhrgebiet-west-unterwegs/2024-09-06
LOCATION:Capobianco al Fiume\, Grendtor 40\, Essen\, 45276\, Germany
CATEGORIES:Alfaclub Regionaltreff
ORGANIZER;CN="Alfaclub e.V.":MAILTO:info@alfaclub.de
END:VEVENT
BEGIN:VEVENT
DTSTART;TZID=Europe/Berlin:20240802T183000
DTEND;TZID=Europe/Berlin:20240802T233000
DTSTAMP:20260420T123905
CREATED:20240123T175557Z
LAST-MODIFIED:20241008T173313Z
UID:10002643-1722623400-1722641400@alfaclub.de
SUMMARY:Regionaltreff Ruhrgebiet-West
DESCRIPTION:Weitere Info und Anmeldung beim Regionaltreff Ruhrgebiet-West
URL:https://alfaclub.de/event/regionaltreff-ruhrgebiet-west-unterwegs/2024-08-02
LOCATION:Capobianco al Fiume\, Grendtor 40\, Essen\, 45276\, Germany
CATEGORIES:Alfaclub Regionaltreff
ORGANIZER;CN="Alfaclub e.V.":MAILTO:info@alfaclub.de
END:VEVENT
BEGIN:VEVENT
DTSTART;TZID=Europe/Berlin:20240607T183000
DTEND;TZID=Europe/Berlin:20240607T233000
DTSTAMP:20260420T123905
CREATED:20240123T175557Z
LAST-MODIFIED:20241008T173313Z
UID:10002642-1717785000-1717803000@alfaclub.de
SUMMARY:Regionaltreff Ruhrgebiet-West
DESCRIPTION:Weitere Info und Anmeldung beim Regionaltreff Ruhrgebiet-West
URL:https://alfaclub.de/event/regionaltreff-ruhrgebiet-west-unterwegs/2024-06-07
LOCATION:Capobianco al Fiume\, Grendtor 40\, Essen\, 45276\, Germany
CATEGORIES:Alfaclub Regionaltreff
ORGANIZER;CN="Alfaclub e.V.":MAILTO:info@alfaclub.de
END:VEVENT
BEGIN:VEVENT
DTSTART;TZID=Europe/Berlin:20231103T180000
DTEND;TZID=Europe/Berlin:20231103T233000
DTSTAMP:20260420T123905
CREATED:20240123T175557Z
LAST-MODIFIED:20241008T173313Z
UID:10002637-1699034400-1699054200@alfaclub.de
SUMMARY:Regionaltreff Ruhrgebiet-West
DESCRIPTION:Weitere Info und Anmeldung beim Regionaltreff Ruhrgebiet-West
URL:https://alfaclub.de/event/regionaltreff-ruhrgebiet-west-unterwegs/2023-11-03
LOCATION:Capobianco al Fiume\, Grendtor 40\, Essen\, 45276\, Germany
CATEGORIES:Alfaclub Regionaltreff
ORGANIZER;CN="Alfaclub e.V.":MAILTO:info@alfaclub.de
END:VEVENT
END:VCALENDAR