BEGIN:VCALENDAR
VERSION:2.0
PRODID:-//Alfaclub e.V. - ECPv6.15.20//NONSGML v1.0//EN
CALSCALE:GREGORIAN
METHOD:PUBLISH
X-WR-CALNAME:Alfaclub e.V.
X-ORIGINAL-URL:https://alfaclub.de
X-WR-CALDESC:Veranstaltungen für Alfaclub e.V.
REFRESH-INTERVAL;VALUE=DURATION:PT1H
X-Robots-Tag:noindex
X-PUBLISHED-TTL:PT1H
BEGIN:VTIMEZONE
TZID:Europe/Berlin
BEGIN:DAYLIGHT
TZOFFSETFROM:+0100
TZOFFSETTO:+0200
TZNAME:CEST
DTSTART:20230326T010000
END:DAYLIGHT
BEGIN:STANDARD
TZOFFSETFROM:+0200
TZOFFSETTO:+0100
TZNAME:CET
DTSTART:20231029T010000
END:STANDARD
BEGIN:DAYLIGHT
TZOFFSETFROM:+0100
TZOFFSETTO:+0200
TZNAME:CEST
DTSTART:20240331T010000
END:DAYLIGHT
BEGIN:STANDARD
TZOFFSETFROM:+0200
TZOFFSETTO:+0100
TZNAME:CET
DTSTART:20241027T010000
END:STANDARD
BEGIN:DAYLIGHT
TZOFFSETFROM:+0100
TZOFFSETTO:+0200
TZNAME:CEST
DTSTART:20250330T010000
END:DAYLIGHT
BEGIN:STANDARD
TZOFFSETFROM:+0200
TZOFFSETTO:+0100
TZNAME:CET
DTSTART:20251026T010000
END:STANDARD
END:VTIMEZONE
BEGIN:VEVENT
DTSTART;VALUE=DATE:20240826
DTEND;VALUE=DATE:20240827
DTSTAMP:20260420T222550
CREATED:20240123T201808Z
LAST-MODIFIED:20240805T170639Z
UID:10002656-1724630400-1724716799@alfaclub.de
SUMMARY:RT Ruhrgebiet-West Trackday Fahrsicherheitszentrum Rundkurs Rüthen
DESCRIPTION:Die Anmeldung für den Trackday ist weiterhin direkt beim Veranstalter möglich\, bitte eine zusätzliche Info an uns. \nKontaktaufnahme: Dana Hell  0171 8301496 \nDie Veranstaltung wird ca. 6 Stunden dauern\, Getränke und Snacks – Bockwürstchen sind inclusive. \n  \n \n 
URL:https://alfaclub.de/event/rt-ruhrgebiet-west-trackday-fahrsicherheitszentrum-rundkurs-ruethen
LOCATION:Fahrsicherheits-Zentrum Kaiserkuhle\, Spitze Warte 22\, Rüthen\, 59602\, Germany
CATEGORIES:Alfaclub Regional Veranstaltung
ORGANIZER;CN="Alfaclub e.V.":MAILTO:info@alfaclub.de
END:VEVENT
END:VCALENDAR