BEGIN:VCALENDAR
VERSION:2.0
PRODID:-//Alfaclub e.V. - ECPv6.15.20//NONSGML v1.0//EN
CALSCALE:GREGORIAN
METHOD:PUBLISH
X-ORIGINAL-URL:https://alfaclub.de
X-WR-CALDESC:Veranstaltungen für Alfaclub e.V.
REFRESH-INTERVAL;VALUE=DURATION:PT1H
X-Robots-Tag:noindex
X-PUBLISHED-TTL:PT1H
BEGIN:VTIMEZONE
TZID:Europe/Berlin
BEGIN:DAYLIGHT
TZOFFSETFROM:+0100
TZOFFSETTO:+0200
TZNAME:CEST
DTSTART:20250330T010000
END:DAYLIGHT
BEGIN:STANDARD
TZOFFSETFROM:+0200
TZOFFSETTO:+0100
TZNAME:CET
DTSTART:20251026T010000
END:STANDARD
BEGIN:DAYLIGHT
TZOFFSETFROM:+0100
TZOFFSETTO:+0200
TZNAME:CEST
DTSTART:20260329T010000
END:DAYLIGHT
BEGIN:STANDARD
TZOFFSETFROM:+0200
TZOFFSETTO:+0100
TZNAME:CET
DTSTART:20261025T010000
END:STANDARD
BEGIN:DAYLIGHT
TZOFFSETFROM:+0100
TZOFFSETTO:+0200
TZNAME:CEST
DTSTART:20270328T010000
END:DAYLIGHT
BEGIN:STANDARD
TZOFFSETFROM:+0200
TZOFFSETTO:+0100
TZNAME:CET
DTSTART:20271031T010000
END:STANDARD
END:VTIMEZONE
BEGIN:VEVENT
DTSTART;TZID=Europe/Berlin:20260221T180000
DTEND;TZID=Europe/Berlin:20260221T233000
DTSTAMP:20260420T123850
CREATED:20251221T144623Z
LAST-MODIFIED:20260111T151955Z
UID:10004122-1771696800-1771716600@alfaclub.de
SUMMARY:RT Bodensee „Dünnele-Essen“ 2026
DESCRIPTION:weitere Infos und Anmeldung beim Regionaltreff Bodensee
URL:https://alfaclub.de/event/rt-bodensee-duennele-essen-2026
LOCATION:Gasthaus Kreuz\, Hauptstr. 1\, Steißlingen-Wiechs\, 78256\, Germany
CATEGORIES:Alfaclub Regional Veranstaltung,Bodensee
ORGANIZER;CN="Alfaclub e.V.":MAILTO:info@alfaclub.de
END:VEVENT
END:VCALENDAR