BEGIN:VCALENDAR
VERSION:2.0
PRODID:-//Alfaclub e.V. - ECPv6.15.20//NONSGML v1.0//EN
CALSCALE:GREGORIAN
METHOD:PUBLISH
X-ORIGINAL-URL:https://alfaclub.de
X-WR-CALDESC:Veranstaltungen für Alfaclub e.V.
REFRESH-INTERVAL;VALUE=DURATION:PT1H
X-Robots-Tag:noindex
X-PUBLISHED-TTL:PT1H
BEGIN:VTIMEZONE
TZID:Europe/Berlin
BEGIN:DAYLIGHT
TZOFFSETFROM:+0100
TZOFFSETTO:+0200
TZNAME:CEST
DTSTART:20250330T010000
END:DAYLIGHT
BEGIN:STANDARD
TZOFFSETFROM:+0200
TZOFFSETTO:+0100
TZNAME:CET
DTSTART:20251026T010000
END:STANDARD
BEGIN:DAYLIGHT
TZOFFSETFROM:+0100
TZOFFSETTO:+0200
TZNAME:CEST
DTSTART:20260329T010000
END:DAYLIGHT
BEGIN:STANDARD
TZOFFSETFROM:+0200
TZOFFSETTO:+0100
TZNAME:CET
DTSTART:20261025T010000
END:STANDARD
BEGIN:DAYLIGHT
TZOFFSETFROM:+0100
TZOFFSETTO:+0200
TZNAME:CEST
DTSTART:20270328T010000
END:DAYLIGHT
BEGIN:STANDARD
TZOFFSETFROM:+0200
TZOFFSETTO:+0100
TZNAME:CET
DTSTART:20271031T010000
END:STANDARD
BEGIN:DAYLIGHT
TZOFFSETFROM:+0100
TZOFFSETTO:+0200
TZNAME:CEST
DTSTART:20280326T010000
END:DAYLIGHT
BEGIN:STANDARD
TZOFFSETFROM:+0200
TZOFFSETTO:+0100
TZNAME:CET
DTSTART:20281029T010000
END:STANDARD
BEGIN:DAYLIGHT
TZOFFSETFROM:+0100
TZOFFSETTO:+0200
TZNAME:CEST
DTSTART:20290325T010000
END:DAYLIGHT
BEGIN:STANDARD
TZOFFSETFROM:+0200
TZOFFSETTO:+0100
TZNAME:CET
DTSTART:20291028T010000
END:STANDARD
END:VTIMEZONE
BEGIN:VEVENT
DTSTART;TZID=Europe/Berlin:20260508T190000
DTEND;TZID=Europe/Berlin:20260508T233000
DTSTAMP:20260422T163656
CREATED:20231020T181935Z
LAST-MODIFIED:20251230T203528Z
UID:10000470-1778266800-1778283000@alfaclub.de
SUMMARY:Regionaltreff Halle/Saale-Leipzig
DESCRIPTION:
URL:https://alfaclub.de/event/regionaltreff-halle-saale-leipzig/2026-05-08
LOCATION:PELLORUS Restaurant & Café am Völkerschlachtdenkmal\, An der Tabaksmühle 21\, Leipzig\, 04277\, Germany
CATEGORIES:Alfaclub Regionaltreff,Halle/Saale-Leipzig
END:VEVENT
BEGIN:VEVENT
DTSTART;TZID=Europe/Berlin:20260612T190000
DTEND;TZID=Europe/Berlin:20260612T233000
DTSTAMP:20260422T163656
CREATED:20231020T181935Z
LAST-MODIFIED:20251230T203528Z
UID:10000471-1781290800-1781307000@alfaclub.de
SUMMARY:Regionaltreff Halle/Saale-Leipzig
DESCRIPTION:
URL:https://alfaclub.de/event/regionaltreff-halle-saale-leipzig/2026-06-12
LOCATION:PELLORUS Restaurant & Café am Völkerschlachtdenkmal\, An der Tabaksmühle 21\, Leipzig\, 04277\, Germany
CATEGORIES:Alfaclub Regionaltreff,Halle/Saale-Leipzig
END:VEVENT
BEGIN:VEVENT
DTSTART;TZID=Europe/Berlin:20260710T190000
DTEND;TZID=Europe/Berlin:20260710T233000
DTSTAMP:20260422T163656
CREATED:20231020T181935Z
LAST-MODIFIED:20251230T203528Z
UID:10000472-1783710000-1783726200@alfaclub.de
SUMMARY:Regionaltreff Halle/Saale-Leipzig
DESCRIPTION:
URL:https://alfaclub.de/event/regionaltreff-halle-saale-leipzig/2026-07-10
LOCATION:PELLORUS Restaurant & Café am Völkerschlachtdenkmal\, An der Tabaksmühle 21\, Leipzig\, 04277\, Germany
CATEGORIES:Alfaclub Regionaltreff,Halle/Saale-Leipzig
END:VEVENT
BEGIN:VEVENT
DTSTART;TZID=Europe/Berlin:20260814T190000
DTEND;TZID=Europe/Berlin:20260814T233000
DTSTAMP:20260422T163656
CREATED:20231020T181935Z
LAST-MODIFIED:20251230T203528Z
UID:10000473-1786734000-1786750200@alfaclub.de
SUMMARY:Regionaltreff Halle/Saale-Leipzig
DESCRIPTION:
URL:https://alfaclub.de/event/regionaltreff-halle-saale-leipzig/2026-08-14
LOCATION:PELLORUS Restaurant & Café am Völkerschlachtdenkmal\, An der Tabaksmühle 21\, Leipzig\, 04277\, Germany
CATEGORIES:Alfaclub Regionaltreff,Halle/Saale-Leipzig
END:VEVENT
BEGIN:VEVENT
DTSTART;TZID=Europe/Berlin:20260911T190000
DTEND;TZID=Europe/Berlin:20260911T233000
DTSTAMP:20260422T163656
CREATED:20231020T181935Z
LAST-MODIFIED:20251230T203528Z
UID:10000474-1789153200-1789169400@alfaclub.de
SUMMARY:Regionaltreff Halle/Saale-Leipzig
DESCRIPTION:
URL:https://alfaclub.de/event/regionaltreff-halle-saale-leipzig/2026-09-11
LOCATION:PELLORUS Restaurant & Café am Völkerschlachtdenkmal\, An der Tabaksmühle 21\, Leipzig\, 04277\, Germany
CATEGORIES:Alfaclub Regionaltreff,Halle/Saale-Leipzig
END:VEVENT
BEGIN:VEVENT
DTSTART;TZID=Europe/Berlin:20261009T190000
DTEND;TZID=Europe/Berlin:20261009T233000
DTSTAMP:20260422T163656
CREATED:20231020T181935Z
LAST-MODIFIED:20251230T203528Z
UID:10000475-1791572400-1791588600@alfaclub.de
SUMMARY:Regionaltreff Halle/Saale-Leipzig
DESCRIPTION:
URL:https://alfaclub.de/event/regionaltreff-halle-saale-leipzig/2026-10-09
LOCATION:PELLORUS Restaurant & Café am Völkerschlachtdenkmal\, An der Tabaksmühle 21\, Leipzig\, 04277\, Germany
CATEGORIES:Alfaclub Regionaltreff,Halle/Saale-Leipzig
END:VEVENT
BEGIN:VEVENT
DTSTART;TZID=Europe/Berlin:20261113T190000
DTEND;TZID=Europe/Berlin:20261113T233000
DTSTAMP:20260422T163656
CREATED:20231020T181935Z
LAST-MODIFIED:20251230T203528Z
UID:10000476-1794596400-1794612600@alfaclub.de
SUMMARY:Regionaltreff Halle/Saale-Leipzig
DESCRIPTION:
URL:https://alfaclub.de/event/regionaltreff-halle-saale-leipzig/2026-11-13
LOCATION:PELLORUS Restaurant & Café am Völkerschlachtdenkmal\, An der Tabaksmühle 21\, Leipzig\, 04277\, Germany
CATEGORIES:Alfaclub Regionaltreff,Halle/Saale-Leipzig
END:VEVENT
BEGIN:VEVENT
DTSTART;TZID=Europe/Berlin:20261211T190000
DTEND;TZID=Europe/Berlin:20261211T233000
DTSTAMP:20260422T163656
CREATED:20231020T181935Z
LAST-MODIFIED:20251230T203528Z
UID:10000477-1797015600-1797031800@alfaclub.de
SUMMARY:Regionaltreff Halle/Saale-Leipzig
DESCRIPTION:
URL:https://alfaclub.de/event/regionaltreff-halle-saale-leipzig/2026-12-11
LOCATION:PELLORUS Restaurant & Café am Völkerschlachtdenkmal\, An der Tabaksmühle 21\, Leipzig\, 04277\, Germany
CATEGORIES:Alfaclub Regionaltreff,Halle/Saale-Leipzig
END:VEVENT
BEGIN:VEVENT
DTSTART;TZID=Europe/Berlin:20270108T190000
DTEND;TZID=Europe/Berlin:20270108T233000
DTSTAMP:20260422T163656
CREATED:20231020T181935Z
LAST-MODIFIED:20251230T203528Z
UID:10000478-1799434800-1799451000@alfaclub.de
SUMMARY:Regionaltreff Halle/Saale-Leipzig
DESCRIPTION:
URL:https://alfaclub.de/event/regionaltreff-halle-saale-leipzig/2027-01-08
LOCATION:PELLORUS Restaurant & Café am Völkerschlachtdenkmal\, An der Tabaksmühle 21\, Leipzig\, 04277\, Germany
CATEGORIES:Alfaclub Regionaltreff,Halle/Saale-Leipzig
END:VEVENT
BEGIN:VEVENT
DTSTART;TZID=Europe/Berlin:20270212T190000
DTEND;TZID=Europe/Berlin:20270212T233000
DTSTAMP:20260422T163656
CREATED:20231020T181935Z
LAST-MODIFIED:20251230T203528Z
UID:10000479-1802458800-1802475000@alfaclub.de
SUMMARY:Regionaltreff Halle/Saale-Leipzig
DESCRIPTION:
URL:https://alfaclub.de/event/regionaltreff-halle-saale-leipzig/2027-02-12
LOCATION:PELLORUS Restaurant & Café am Völkerschlachtdenkmal\, An der Tabaksmühle 21\, Leipzig\, 04277\, Germany
CATEGORIES:Alfaclub Regionaltreff,Halle/Saale-Leipzig
END:VEVENT
BEGIN:VEVENT
DTSTART;TZID=Europe/Berlin:20270312T190000
DTEND;TZID=Europe/Berlin:20270312T233000
DTSTAMP:20260422T163656
CREATED:20231020T181935Z
LAST-MODIFIED:20251230T203528Z
UID:10000480-1804878000-1804894200@alfaclub.de
SUMMARY:Regionaltreff Halle/Saale-Leipzig
DESCRIPTION:
URL:https://alfaclub.de/event/regionaltreff-halle-saale-leipzig/2027-03-12
LOCATION:PELLORUS Restaurant & Café am Völkerschlachtdenkmal\, An der Tabaksmühle 21\, Leipzig\, 04277\, Germany
CATEGORIES:Alfaclub Regionaltreff,Halle/Saale-Leipzig
END:VEVENT
BEGIN:VEVENT
DTSTART;TZID=Europe/Berlin:20270409T190000
DTEND;TZID=Europe/Berlin:20270409T233000
DTSTAMP:20260422T163656
CREATED:20231020T181935Z
LAST-MODIFIED:20251230T203528Z
UID:10000481-1807297200-1807313400@alfaclub.de
SUMMARY:Regionaltreff Halle/Saale-Leipzig
DESCRIPTION:
URL:https://alfaclub.de/event/regionaltreff-halle-saale-leipzig/2027-04-09
LOCATION:PELLORUS Restaurant & Café am Völkerschlachtdenkmal\, An der Tabaksmühle 21\, Leipzig\, 04277\, Germany
CATEGORIES:Alfaclub Regionaltreff,Halle/Saale-Leipzig
END:VEVENT
BEGIN:VEVENT
DTSTART;TZID=Europe/Berlin:20270514T190000
DTEND;TZID=Europe/Berlin:20270514T233000
DTSTAMP:20260422T163656
CREATED:20231020T181935Z
LAST-MODIFIED:20251230T203528Z
UID:10000482-1810321200-1810337400@alfaclub.de
SUMMARY:Regionaltreff Halle/Saale-Leipzig
DESCRIPTION:
URL:https://alfaclub.de/event/regionaltreff-halle-saale-leipzig/2027-05-14
LOCATION:PELLORUS Restaurant & Café am Völkerschlachtdenkmal\, An der Tabaksmühle 21\, Leipzig\, 04277\, Germany
CATEGORIES:Alfaclub Regionaltreff,Halle/Saale-Leipzig
END:VEVENT
BEGIN:VEVENT
DTSTART;TZID=Europe/Berlin:20270611T190000
DTEND;TZID=Europe/Berlin:20270611T233000
DTSTAMP:20260422T163656
CREATED:20231020T181935Z
LAST-MODIFIED:20251230T203528Z
UID:10000483-1812740400-1812756600@alfaclub.de
SUMMARY:Regionaltreff Halle/Saale-Leipzig
DESCRIPTION:
URL:https://alfaclub.de/event/regionaltreff-halle-saale-leipzig/2027-06-11
LOCATION:PELLORUS Restaurant & Café am Völkerschlachtdenkmal\, An der Tabaksmühle 21\, Leipzig\, 04277\, Germany
CATEGORIES:Alfaclub Regionaltreff,Halle/Saale-Leipzig
END:VEVENT
BEGIN:VEVENT
DTSTART;TZID=Europe/Berlin:20270709T190000
DTEND;TZID=Europe/Berlin:20270709T233000
DTSTAMP:20260422T163656
CREATED:20231020T181935Z
LAST-MODIFIED:20251230T203528Z
UID:10000484-1815159600-1815175800@alfaclub.de
SUMMARY:Regionaltreff Halle/Saale-Leipzig
DESCRIPTION:
URL:https://alfaclub.de/event/regionaltreff-halle-saale-leipzig/2027-07-09
LOCATION:PELLORUS Restaurant & Café am Völkerschlachtdenkmal\, An der Tabaksmühle 21\, Leipzig\, 04277\, Germany
CATEGORIES:Alfaclub Regionaltreff,Halle/Saale-Leipzig
END:VEVENT
BEGIN:VEVENT
DTSTART;TZID=Europe/Berlin:20270813T190000
DTEND;TZID=Europe/Berlin:20270813T233000
DTSTAMP:20260422T163656
CREATED:20231020T181935Z
LAST-MODIFIED:20251230T203528Z
UID:10000485-1818183600-1818199800@alfaclub.de
SUMMARY:Regionaltreff Halle/Saale-Leipzig
DESCRIPTION:
URL:https://alfaclub.de/event/regionaltreff-halle-saale-leipzig/2027-08-13
LOCATION:PELLORUS Restaurant & Café am Völkerschlachtdenkmal\, An der Tabaksmühle 21\, Leipzig\, 04277\, Germany
CATEGORIES:Alfaclub Regionaltreff,Halle/Saale-Leipzig
END:VEVENT
BEGIN:VEVENT
DTSTART;TZID=Europe/Berlin:20270910T190000
DTEND;TZID=Europe/Berlin:20270910T233000
DTSTAMP:20260422T163656
CREATED:20231020T181935Z
LAST-MODIFIED:20251230T203528Z
UID:10000486-1820602800-1820619000@alfaclub.de
SUMMARY:Regionaltreff Halle/Saale-Leipzig
DESCRIPTION:
URL:https://alfaclub.de/event/regionaltreff-halle-saale-leipzig/2027-09-10
LOCATION:PELLORUS Restaurant & Café am Völkerschlachtdenkmal\, An der Tabaksmühle 21\, Leipzig\, 04277\, Germany
CATEGORIES:Alfaclub Regionaltreff,Halle/Saale-Leipzig
END:VEVENT
BEGIN:VEVENT
DTSTART;TZID=Europe/Berlin:20271008T190000
DTEND;TZID=Europe/Berlin:20271008T233000
DTSTAMP:20260422T163656
CREATED:20231020T181935Z
LAST-MODIFIED:20251230T203528Z
UID:10000487-1823022000-1823038200@alfaclub.de
SUMMARY:Regionaltreff Halle/Saale-Leipzig
DESCRIPTION:
URL:https://alfaclub.de/event/regionaltreff-halle-saale-leipzig/2027-10-08
LOCATION:PELLORUS Restaurant & Café am Völkerschlachtdenkmal\, An der Tabaksmühle 21\, Leipzig\, 04277\, Germany
CATEGORIES:Alfaclub Regionaltreff,Halle/Saale-Leipzig
END:VEVENT
BEGIN:VEVENT
DTSTART;TZID=Europe/Berlin:20271112T190000
DTEND;TZID=Europe/Berlin:20271112T233000
DTSTAMP:20260422T163656
CREATED:20231020T181935Z
LAST-MODIFIED:20251230T203528Z
UID:10000488-1826046000-1826062200@alfaclub.de
SUMMARY:Regionaltreff Halle/Saale-Leipzig
DESCRIPTION:
URL:https://alfaclub.de/event/regionaltreff-halle-saale-leipzig/2027-11-12
LOCATION:PELLORUS Restaurant & Café am Völkerschlachtdenkmal\, An der Tabaksmühle 21\, Leipzig\, 04277\, Germany
CATEGORIES:Alfaclub Regionaltreff,Halle/Saale-Leipzig
END:VEVENT
BEGIN:VEVENT
DTSTART;TZID=Europe/Berlin:20271210T190000
DTEND;TZID=Europe/Berlin:20271210T233000
DTSTAMP:20260422T163656
CREATED:20231020T181935Z
LAST-MODIFIED:20251230T203528Z
UID:10000489-1828465200-1828481400@alfaclub.de
SUMMARY:Regionaltreff Halle/Saale-Leipzig
DESCRIPTION:
URL:https://alfaclub.de/event/regionaltreff-halle-saale-leipzig/2027-12-10
LOCATION:PELLORUS Restaurant & Café am Völkerschlachtdenkmal\, An der Tabaksmühle 21\, Leipzig\, 04277\, Germany
CATEGORIES:Alfaclub Regionaltreff,Halle/Saale-Leipzig
END:VEVENT
BEGIN:VEVENT
DTSTART;TZID=Europe/Berlin:20280114T190000
DTEND;TZID=Europe/Berlin:20280114T233000
DTSTAMP:20260422T163656
CREATED:20231020T181935Z
LAST-MODIFIED:20251230T203528Z
UID:10000490-1831489200-1831505400@alfaclub.de
SUMMARY:Regionaltreff Halle/Saale-Leipzig
DESCRIPTION:
URL:https://alfaclub.de/event/regionaltreff-halle-saale-leipzig/2028-01-14
LOCATION:PELLORUS Restaurant & Café am Völkerschlachtdenkmal\, An der Tabaksmühle 21\, Leipzig\, 04277\, Germany
CATEGORIES:Alfaclub Regionaltreff,Halle/Saale-Leipzig
END:VEVENT
BEGIN:VEVENT
DTSTART;TZID=Europe/Berlin:20280211T190000
DTEND;TZID=Europe/Berlin:20280211T233000
DTSTAMP:20260422T163656
CREATED:20231020T181935Z
LAST-MODIFIED:20251230T203528Z
UID:10000491-1833908400-1833924600@alfaclub.de
SUMMARY:Regionaltreff Halle/Saale-Leipzig
DESCRIPTION:
URL:https://alfaclub.de/event/regionaltreff-halle-saale-leipzig/2028-02-11
LOCATION:PELLORUS Restaurant & Café am Völkerschlachtdenkmal\, An der Tabaksmühle 21\, Leipzig\, 04277\, Germany
CATEGORIES:Alfaclub Regionaltreff,Halle/Saale-Leipzig
END:VEVENT
BEGIN:VEVENT
DTSTART;TZID=Europe/Berlin:20280310T190000
DTEND;TZID=Europe/Berlin:20280310T233000
DTSTAMP:20260422T163656
CREATED:20231020T181935Z
LAST-MODIFIED:20251230T203528Z
UID:10000492-1836327600-1836343800@alfaclub.de
SUMMARY:Regionaltreff Halle/Saale-Leipzig
DESCRIPTION:
URL:https://alfaclub.de/event/regionaltreff-halle-saale-leipzig/2028-03-10
LOCATION:PELLORUS Restaurant & Café am Völkerschlachtdenkmal\, An der Tabaksmühle 21\, Leipzig\, 04277\, Germany
CATEGORIES:Alfaclub Regionaltreff,Halle/Saale-Leipzig
END:VEVENT
BEGIN:VEVENT
DTSTART;TZID=Europe/Berlin:20280414T190000
DTEND;TZID=Europe/Berlin:20280414T233000
DTSTAMP:20260422T163656
CREATED:20231020T181935Z
LAST-MODIFIED:20251230T203528Z
UID:10000493-1839351600-1839367800@alfaclub.de
SUMMARY:Regionaltreff Halle/Saale-Leipzig
DESCRIPTION:
URL:https://alfaclub.de/event/regionaltreff-halle-saale-leipzig/2028-04-14
LOCATION:PELLORUS Restaurant & Café am Völkerschlachtdenkmal\, An der Tabaksmühle 21\, Leipzig\, 04277\, Germany
CATEGORIES:Alfaclub Regionaltreff,Halle/Saale-Leipzig
END:VEVENT
BEGIN:VEVENT
DTSTART;TZID=Europe/Berlin:20280512T190000
DTEND;TZID=Europe/Berlin:20280512T233000
DTSTAMP:20260422T163656
CREATED:20231020T181935Z
LAST-MODIFIED:20251230T203528Z
UID:10000494-1841770800-1841787000@alfaclub.de
SUMMARY:Regionaltreff Halle/Saale-Leipzig
DESCRIPTION:
URL:https://alfaclub.de/event/regionaltreff-halle-saale-leipzig/2028-05-12
LOCATION:PELLORUS Restaurant & Café am Völkerschlachtdenkmal\, An der Tabaksmühle 21\, Leipzig\, 04277\, Germany
CATEGORIES:Alfaclub Regionaltreff,Halle/Saale-Leipzig
END:VEVENT
BEGIN:VEVENT
DTSTART;TZID=Europe/Berlin:20280609T190000
DTEND;TZID=Europe/Berlin:20280609T233000
DTSTAMP:20260422T163656
CREATED:20231020T181935Z
LAST-MODIFIED:20251230T203528Z
UID:10000495-1844190000-1844206200@alfaclub.de
SUMMARY:Regionaltreff Halle/Saale-Leipzig
DESCRIPTION:
URL:https://alfaclub.de/event/regionaltreff-halle-saale-leipzig/2028-06-09
LOCATION:PELLORUS Restaurant & Café am Völkerschlachtdenkmal\, An der Tabaksmühle 21\, Leipzig\, 04277\, Germany
CATEGORIES:Alfaclub Regionaltreff,Halle/Saale-Leipzig
END:VEVENT
BEGIN:VEVENT
DTSTART;TZID=Europe/Berlin:20280714T190000
DTEND;TZID=Europe/Berlin:20280714T233000
DTSTAMP:20260422T163656
CREATED:20231020T181935Z
LAST-MODIFIED:20251230T203528Z
UID:10000496-1847214000-1847230200@alfaclub.de
SUMMARY:Regionaltreff Halle/Saale-Leipzig
DESCRIPTION:
URL:https://alfaclub.de/event/regionaltreff-halle-saale-leipzig/2028-07-14
LOCATION:PELLORUS Restaurant & Café am Völkerschlachtdenkmal\, An der Tabaksmühle 21\, Leipzig\, 04277\, Germany
CATEGORIES:Alfaclub Regionaltreff,Halle/Saale-Leipzig
END:VEVENT
BEGIN:VEVENT
DTSTART;TZID=Europe/Berlin:20280811T190000
DTEND;TZID=Europe/Berlin:20280811T233000
DTSTAMP:20260422T163656
CREATED:20231020T181935Z
LAST-MODIFIED:20251230T203528Z
UID:10000497-1849633200-1849649400@alfaclub.de
SUMMARY:Regionaltreff Halle/Saale-Leipzig
DESCRIPTION:
URL:https://alfaclub.de/event/regionaltreff-halle-saale-leipzig/2028-08-11
LOCATION:PELLORUS Restaurant & Café am Völkerschlachtdenkmal\, An der Tabaksmühle 21\, Leipzig\, 04277\, Germany
CATEGORIES:Alfaclub Regionaltreff,Halle/Saale-Leipzig
END:VEVENT
BEGIN:VEVENT
DTSTART;TZID=Europe/Berlin:20280908T190000
DTEND;TZID=Europe/Berlin:20280908T233000
DTSTAMP:20260422T163656
CREATED:20231020T181935Z
LAST-MODIFIED:20251230T203528Z
UID:10000498-1852052400-1852068600@alfaclub.de
SUMMARY:Regionaltreff Halle/Saale-Leipzig
DESCRIPTION:
URL:https://alfaclub.de/event/regionaltreff-halle-saale-leipzig/2028-09-08
LOCATION:PELLORUS Restaurant & Café am Völkerschlachtdenkmal\, An der Tabaksmühle 21\, Leipzig\, 04277\, Germany
CATEGORIES:Alfaclub Regionaltreff,Halle/Saale-Leipzig
END:VEVENT
BEGIN:VEVENT
DTSTART;TZID=Europe/Berlin:20281013T190000
DTEND;TZID=Europe/Berlin:20281013T233000
DTSTAMP:20260422T163656
CREATED:20231020T181935Z
LAST-MODIFIED:20251230T203528Z
UID:10000499-1855076400-1855092600@alfaclub.de
SUMMARY:Regionaltreff Halle/Saale-Leipzig
DESCRIPTION:
URL:https://alfaclub.de/event/regionaltreff-halle-saale-leipzig/2028-10-13
LOCATION:PELLORUS Restaurant & Café am Völkerschlachtdenkmal\, An der Tabaksmühle 21\, Leipzig\, 04277\, Germany
CATEGORIES:Alfaclub Regionaltreff,Halle/Saale-Leipzig
END:VEVENT
END:VCALENDAR