BEGIN:VCALENDAR
VERSION:2.0
PRODID:-//Alfaclub e.V. - ECPv6.15.20//NONSGML v1.0//EN
CALSCALE:GREGORIAN
METHOD:PUBLISH
X-ORIGINAL-URL:https://alfaclub.de
X-WR-CALDESC:Veranstaltungen für Alfaclub e.V.
REFRESH-INTERVAL;VALUE=DURATION:PT1H
X-Robots-Tag:noindex
X-PUBLISHED-TTL:PT1H
BEGIN:VTIMEZONE
TZID:Europe/Berlin
BEGIN:DAYLIGHT
TZOFFSETFROM:+0100
TZOFFSETTO:+0200
TZNAME:CEST
DTSTART:20220327T010000
END:DAYLIGHT
BEGIN:STANDARD
TZOFFSETFROM:+0200
TZOFFSETTO:+0100
TZNAME:CET
DTSTART:20221030T010000
END:STANDARD
BEGIN:DAYLIGHT
TZOFFSETFROM:+0100
TZOFFSETTO:+0200
TZNAME:CEST
DTSTART:20230326T010000
END:DAYLIGHT
BEGIN:STANDARD
TZOFFSETFROM:+0200
TZOFFSETTO:+0100
TZNAME:CET
DTSTART:20231029T010000
END:STANDARD
BEGIN:DAYLIGHT
TZOFFSETFROM:+0100
TZOFFSETTO:+0200
TZNAME:CEST
DTSTART:20240331T010000
END:DAYLIGHT
BEGIN:STANDARD
TZOFFSETFROM:+0200
TZOFFSETTO:+0100
TZNAME:CET
DTSTART:20241027T010000
END:STANDARD
BEGIN:DAYLIGHT
TZOFFSETFROM:+0100
TZOFFSETTO:+0200
TZNAME:CEST
DTSTART:20250330T010000
END:DAYLIGHT
BEGIN:STANDARD
TZOFFSETFROM:+0200
TZOFFSETTO:+0100
TZNAME:CET
DTSTART:20251026T010000
END:STANDARD
BEGIN:DAYLIGHT
TZOFFSETFROM:+0100
TZOFFSETTO:+0200
TZNAME:CEST
DTSTART:20260329T010000
END:DAYLIGHT
BEGIN:STANDARD
TZOFFSETFROM:+0200
TZOFFSETTO:+0100
TZNAME:CET
DTSTART:20261025T010000
END:STANDARD
BEGIN:DAYLIGHT
TZOFFSETFROM:+0100
TZOFFSETTO:+0200
TZNAME:CEST
DTSTART:20270328T010000
END:DAYLIGHT
BEGIN:STANDARD
TZOFFSETFROM:+0200
TZOFFSETTO:+0100
TZNAME:CET
DTSTART:20271031T010000
END:STANDARD
END:VTIMEZONE
BEGIN:VEVENT
DTSTART;TZID=Europe/Berlin:20260411T183000
DTEND;TZID=Europe/Berlin:20260411T183000
DTSTAMP:20260422T145842
CREATED:20231020T212247Z
LAST-MODIFIED:20260106T114558Z
UID:10001995-1775932200-1775932200@alfaclub.de
SUMMARY:Regionaltreff Thüringen
DESCRIPTION:
URL:https://alfaclub.de/event/regionaltreff-thueringen/2026-04-11
LOCATION:Ristorante 12 Apostel\, Rosenstraße 2\, Arnstadt\, 99310\, Germany
CATEGORIES:Alfaclub Regionaltreff,Thüringen
END:VEVENT
BEGIN:VEVENT
DTSTART;TZID=Europe/Berlin:20260314T183000
DTEND;TZID=Europe/Berlin:20260314T183000
DTSTAMP:20260422T145842
CREATED:20231020T212247Z
LAST-MODIFIED:20260106T114558Z
UID:10001994-1773513000-1773513000@alfaclub.de
SUMMARY:Regionaltreff Thüringen
DESCRIPTION:
URL:https://alfaclub.de/event/regionaltreff-thueringen/2026-03-14
LOCATION:Ristorante 12 Apostel\, Rosenstraße 2\, Arnstadt\, 99310\, Germany
CATEGORIES:Alfaclub Regionaltreff,Thüringen
END:VEVENT
BEGIN:VEVENT
DTSTART;TZID=Europe/Berlin:20260214T183000
DTEND;TZID=Europe/Berlin:20260214T183000
DTSTAMP:20260422T145842
CREATED:20231020T212247Z
LAST-MODIFIED:20260106T114558Z
UID:10001993-1771093800-1771093800@alfaclub.de
SUMMARY:Regionaltreff Thüringen
DESCRIPTION:
URL:https://alfaclub.de/event/regionaltreff-thueringen/2026-02-14
LOCATION:Ristorante 12 Apostel\, Rosenstraße 2\, Arnstadt\, 99310\, Germany
CATEGORIES:Alfaclub Regionaltreff,Thüringen
END:VEVENT
BEGIN:VEVENT
DTSTART;TZID=Europe/Berlin:20260110T183000
DTEND;TZID=Europe/Berlin:20260110T183000
DTSTAMP:20260422T145842
CREATED:20231020T212247Z
LAST-MODIFIED:20260106T114558Z
UID:10001992-1768069800-1768069800@alfaclub.de
SUMMARY:Regionaltreff Thüringen
DESCRIPTION:
URL:https://alfaclub.de/event/regionaltreff-thueringen/2026-01-10
LOCATION:Ristorante 12 Apostel\, Rosenstraße 2\, Arnstadt\, 99310\, Germany
CATEGORIES:Alfaclub Regionaltreff,Thüringen
END:VEVENT
BEGIN:VEVENT
DTSTART;TZID=Europe/Berlin:20251213T183000
DTEND;TZID=Europe/Berlin:20251213T183000
DTSTAMP:20260422T145842
CREATED:20231020T212247Z
LAST-MODIFIED:20260106T114558Z
UID:10001991-1765650600-1765650600@alfaclub.de
SUMMARY:Regionaltreff Thüringen
DESCRIPTION:
URL:https://alfaclub.de/event/regionaltreff-thueringen/2025-12-13
LOCATION:Ristorante 12 Apostel\, Rosenstraße 2\, Arnstadt\, 99310\, Germany
CATEGORIES:Alfaclub Regionaltreff,Thüringen
END:VEVENT
BEGIN:VEVENT
DTSTART;TZID=Europe/Berlin:20251108T183000
DTEND;TZID=Europe/Berlin:20251108T183000
DTSTAMP:20260422T145842
CREATED:20231020T212247Z
LAST-MODIFIED:20260106T114558Z
UID:10001990-1762626600-1762626600@alfaclub.de
SUMMARY:Regionaltreff Thüringen
DESCRIPTION:
URL:https://alfaclub.de/event/regionaltreff-thueringen/2025-11-08
LOCATION:Ristorante 12 Apostel\, Rosenstraße 2\, Arnstadt\, 99310\, Germany
CATEGORIES:Alfaclub Regionaltreff,Thüringen
END:VEVENT
BEGIN:VEVENT
DTSTART;TZID=Europe/Berlin:20251011T183000
DTEND;TZID=Europe/Berlin:20251011T183000
DTSTAMP:20260422T145842
CREATED:20231020T212247Z
LAST-MODIFIED:20260106T114558Z
UID:10001989-1760207400-1760207400@alfaclub.de
SUMMARY:Regionaltreff Thüringen
DESCRIPTION:
URL:https://alfaclub.de/event/regionaltreff-thueringen/2025-10-11
LOCATION:Ristorante 12 Apostel\, Rosenstraße 2\, Arnstadt\, 99310\, Germany
CATEGORIES:Alfaclub Regionaltreff,Thüringen
END:VEVENT
BEGIN:VEVENT
DTSTART;TZID=Europe/Berlin:20250913T183000
DTEND;TZID=Europe/Berlin:20250913T183000
DTSTAMP:20260422T145842
CREATED:20231020T212247Z
LAST-MODIFIED:20260106T114558Z
UID:10001988-1757788200-1757788200@alfaclub.de
SUMMARY:Regionaltreff Thüringen
DESCRIPTION:
URL:https://alfaclub.de/event/regionaltreff-thueringen/2025-09-13
LOCATION:Ristorante 12 Apostel\, Rosenstraße 2\, Arnstadt\, 99310\, Germany
CATEGORIES:Alfaclub Regionaltreff,Thüringen
END:VEVENT
BEGIN:VEVENT
DTSTART;TZID=Europe/Berlin:20250809T183000
DTEND;TZID=Europe/Berlin:20250809T183000
DTSTAMP:20260422T145842
CREATED:20231020T212247Z
LAST-MODIFIED:20260106T114558Z
UID:10001987-1754764200-1754764200@alfaclub.de
SUMMARY:Regionaltreff Thüringen
DESCRIPTION:
URL:https://alfaclub.de/event/regionaltreff-thueringen/2025-08-09
LOCATION:Ristorante 12 Apostel\, Rosenstraße 2\, Arnstadt\, 99310\, Germany
CATEGORIES:Alfaclub Regionaltreff,Thüringen
END:VEVENT
BEGIN:VEVENT
DTSTART;TZID=Europe/Berlin:20250712T183000
DTEND;TZID=Europe/Berlin:20250712T183000
DTSTAMP:20260422T145842
CREATED:20231020T212247Z
LAST-MODIFIED:20260106T114558Z
UID:10001986-1752345000-1752345000@alfaclub.de
SUMMARY:Regionaltreff Thüringen
DESCRIPTION:
URL:https://alfaclub.de/event/regionaltreff-thueringen/2025-07-12
LOCATION:Ristorante 12 Apostel\, Rosenstraße 2\, Arnstadt\, 99310\, Germany
CATEGORIES:Alfaclub Regionaltreff,Thüringen
END:VEVENT
BEGIN:VEVENT
DTSTART;TZID=Europe/Berlin:20250614T183000
DTEND;TZID=Europe/Berlin:20250614T183000
DTSTAMP:20260422T145842
CREATED:20231020T212247Z
LAST-MODIFIED:20260106T114558Z
UID:10001985-1749925800-1749925800@alfaclub.de
SUMMARY:Regionaltreff Thüringen
DESCRIPTION:
URL:https://alfaclub.de/event/regionaltreff-thueringen/2025-06-14
LOCATION:Ristorante 12 Apostel\, Rosenstraße 2\, Arnstadt\, 99310\, Germany
CATEGORIES:Alfaclub Regionaltreff,Thüringen
END:VEVENT
BEGIN:VEVENT
DTSTART;TZID=Europe/Berlin:20250510T183000
DTEND;TZID=Europe/Berlin:20250510T183000
DTSTAMP:20260422T145842
CREATED:20231020T212247Z
LAST-MODIFIED:20260106T114558Z
UID:10001984-1746901800-1746901800@alfaclub.de
SUMMARY:Regionaltreff Thüringen
DESCRIPTION:
URL:https://alfaclub.de/event/regionaltreff-thueringen/2025-05-10
LOCATION:Ristorante 12 Apostel\, Rosenstraße 2\, Arnstadt\, 99310\, Germany
CATEGORIES:Alfaclub Regionaltreff,Thüringen
END:VEVENT
BEGIN:VEVENT
DTSTART;TZID=Europe/Berlin:20250412T183000
DTEND;TZID=Europe/Berlin:20250412T183000
DTSTAMP:20260422T145842
CREATED:20231020T212247Z
LAST-MODIFIED:20260106T114558Z
UID:10001983-1744482600-1744482600@alfaclub.de
SUMMARY:Regionaltreff Thüringen
DESCRIPTION:
URL:https://alfaclub.de/event/regionaltreff-thueringen/2025-04-12
LOCATION:Ristorante 12 Apostel\, Rosenstraße 2\, Arnstadt\, 99310\, Germany
CATEGORIES:Alfaclub Regionaltreff,Thüringen
END:VEVENT
BEGIN:VEVENT
DTSTART;TZID=Europe/Berlin:20250308T183000
DTEND;TZID=Europe/Berlin:20250308T183000
DTSTAMP:20260422T145842
CREATED:20231020T212247Z
LAST-MODIFIED:20260106T114558Z
UID:10001982-1741458600-1741458600@alfaclub.de
SUMMARY:Regionaltreff Thüringen
DESCRIPTION:
URL:https://alfaclub.de/event/regionaltreff-thueringen/2025-03-08
LOCATION:Ristorante 12 Apostel\, Rosenstraße 2\, Arnstadt\, 99310\, Germany
CATEGORIES:Alfaclub Regionaltreff,Thüringen
END:VEVENT
BEGIN:VEVENT
DTSTART;TZID=Europe/Berlin:20250208T183000
DTEND;TZID=Europe/Berlin:20250208T183000
DTSTAMP:20260422T145842
CREATED:20231020T212247Z
LAST-MODIFIED:20260106T114558Z
UID:10001981-1739039400-1739039400@alfaclub.de
SUMMARY:Regionaltreff Thüringen
DESCRIPTION:
URL:https://alfaclub.de/event/regionaltreff-thueringen/2025-02-08
LOCATION:Ristorante 12 Apostel\, Rosenstraße 2\, Arnstadt\, 99310\, Germany
CATEGORIES:Alfaclub Regionaltreff,Thüringen
END:VEVENT
BEGIN:VEVENT
DTSTART;TZID=Europe/Berlin:20250111T183000
DTEND;TZID=Europe/Berlin:20250111T183000
DTSTAMP:20260422T145842
CREATED:20231020T212247Z
LAST-MODIFIED:20260106T114558Z
UID:10001980-1736620200-1736620200@alfaclub.de
SUMMARY:Regionaltreff Thüringen
DESCRIPTION:
URL:https://alfaclub.de/event/regionaltreff-thueringen/2025-01-11
LOCATION:Ristorante 12 Apostel\, Rosenstraße 2\, Arnstadt\, 99310\, Germany
CATEGORIES:Alfaclub Regionaltreff,Thüringen
END:VEVENT
BEGIN:VEVENT
DTSTART;TZID=Europe/Berlin:20241214T183000
DTEND;TZID=Europe/Berlin:20241214T183000
DTSTAMP:20260422T145842
CREATED:20231020T212247Z
LAST-MODIFIED:20260106T114558Z
UID:10001979-1734201000-1734201000@alfaclub.de
SUMMARY:Regionaltreff Thüringen
DESCRIPTION:
URL:https://alfaclub.de/event/regionaltreff-thueringen/2024-12-14
LOCATION:Ristorante 12 Apostel\, Rosenstraße 2\, Arnstadt\, 99310\, Germany
CATEGORIES:Alfaclub Regionaltreff,Thüringen
END:VEVENT
BEGIN:VEVENT
DTSTART;TZID=Europe/Berlin:20241109T183000
DTEND;TZID=Europe/Berlin:20241109T183000
DTSTAMP:20260422T145842
CREATED:20231020T212247Z
LAST-MODIFIED:20260106T114558Z
UID:10001978-1731177000-1731177000@alfaclub.de
SUMMARY:Regionaltreff Thüringen
DESCRIPTION:
URL:https://alfaclub.de/event/regionaltreff-thueringen/2024-11-09
LOCATION:Ristorante 12 Apostel\, Rosenstraße 2\, Arnstadt\, 99310\, Germany
CATEGORIES:Alfaclub Regionaltreff,Thüringen
END:VEVENT
BEGIN:VEVENT
DTSTART;TZID=Europe/Berlin:20241012T183000
DTEND;TZID=Europe/Berlin:20241012T183000
DTSTAMP:20260422T145843
CREATED:20231020T212247Z
LAST-MODIFIED:20260106T114558Z
UID:10001977-1728757800-1728757800@alfaclub.de
SUMMARY:Regionaltreff Thüringen
DESCRIPTION:
URL:https://alfaclub.de/event/regionaltreff-thueringen/2024-10-12
LOCATION:Ristorante 12 Apostel\, Rosenstraße 2\, Arnstadt\, 99310\, Germany
CATEGORIES:Alfaclub Regionaltreff,Thüringen
END:VEVENT
BEGIN:VEVENT
DTSTART;TZID=Europe/Berlin:20240914T183000
DTEND;TZID=Europe/Berlin:20240914T183000
DTSTAMP:20260422T145843
CREATED:20231020T212247Z
LAST-MODIFIED:20260106T114558Z
UID:10001976-1726338600-1726338600@alfaclub.de
SUMMARY:Regionaltreff Thüringen
DESCRIPTION:
URL:https://alfaclub.de/event/regionaltreff-thueringen/2024-09-14
LOCATION:Ristorante 12 Apostel\, Rosenstraße 2\, Arnstadt\, 99310\, Germany
CATEGORIES:Alfaclub Regionaltreff,Thüringen
END:VEVENT
BEGIN:VEVENT
DTSTART;TZID=Europe/Berlin:20240810T183000
DTEND;TZID=Europe/Berlin:20240810T183000
DTSTAMP:20260422T145843
CREATED:20231020T212247Z
LAST-MODIFIED:20260106T114558Z
UID:10001975-1723314600-1723314600@alfaclub.de
SUMMARY:Regionaltreff Thüringen
DESCRIPTION:
URL:https://alfaclub.de/event/regionaltreff-thueringen/2024-08-10
LOCATION:Ristorante 12 Apostel\, Rosenstraße 2\, Arnstadt\, 99310\, Germany
CATEGORIES:Alfaclub Regionaltreff,Thüringen
END:VEVENT
BEGIN:VEVENT
DTSTART;TZID=Europe/Berlin:20240713T183000
DTEND;TZID=Europe/Berlin:20240713T183000
DTSTAMP:20260422T145843
CREATED:20231020T212247Z
LAST-MODIFIED:20260106T114558Z
UID:10001974-1720895400-1720895400@alfaclub.de
SUMMARY:Regionaltreff Thüringen
DESCRIPTION:
URL:https://alfaclub.de/event/regionaltreff-thueringen/2024-07-13
LOCATION:Ristorante 12 Apostel\, Rosenstraße 2\, Arnstadt\, 99310\, Germany
CATEGORIES:Alfaclub Regionaltreff,Thüringen
END:VEVENT
BEGIN:VEVENT
DTSTART;TZID=Europe/Berlin:20240608T183000
DTEND;TZID=Europe/Berlin:20240608T183000
DTSTAMP:20260422T145843
CREATED:20231020T212247Z
LAST-MODIFIED:20260106T114558Z
UID:10001973-1717871400-1717871400@alfaclub.de
SUMMARY:Regionaltreff Thüringen
DESCRIPTION:
URL:https://alfaclub.de/event/regionaltreff-thueringen/2024-06-08
LOCATION:Ristorante 12 Apostel\, Rosenstraße 2\, Arnstadt\, 99310\, Germany
CATEGORIES:Alfaclub Regionaltreff,Thüringen
END:VEVENT
BEGIN:VEVENT
DTSTART;TZID=Europe/Berlin:20240511T183000
DTEND;TZID=Europe/Berlin:20240511T183000
DTSTAMP:20260422T145843
CREATED:20231020T212247Z
LAST-MODIFIED:20260106T114558Z
UID:10001972-1715452200-1715452200@alfaclub.de
SUMMARY:Regionaltreff Thüringen
DESCRIPTION:
URL:https://alfaclub.de/event/regionaltreff-thueringen/2024-05-11
LOCATION:Ristorante 12 Apostel\, Rosenstraße 2\, Arnstadt\, 99310\, Germany
CATEGORIES:Alfaclub Regionaltreff,Thüringen
END:VEVENT
BEGIN:VEVENT
DTSTART;TZID=Europe/Berlin:20240413T183000
DTEND;TZID=Europe/Berlin:20240413T183000
DTSTAMP:20260422T145843
CREATED:20231020T212247Z
LAST-MODIFIED:20260106T114558Z
UID:10001971-1713033000-1713033000@alfaclub.de
SUMMARY:Regionaltreff Thüringen
DESCRIPTION:
URL:https://alfaclub.de/event/regionaltreff-thueringen/2024-04-13
LOCATION:Ristorante 12 Apostel\, Rosenstraße 2\, Arnstadt\, 99310\, Germany
CATEGORIES:Alfaclub Regionaltreff,Thüringen
END:VEVENT
BEGIN:VEVENT
DTSTART;TZID=Europe/Berlin:20240309T183000
DTEND;TZID=Europe/Berlin:20240309T183000
DTSTAMP:20260422T145843
CREATED:20231020T212247Z
LAST-MODIFIED:20260106T114558Z
UID:10001970-1710009000-1710009000@alfaclub.de
SUMMARY:Regionaltreff Thüringen
DESCRIPTION:
URL:https://alfaclub.de/event/regionaltreff-thueringen/2024-03-09
LOCATION:Ristorante 12 Apostel\, Rosenstraße 2\, Arnstadt\, 99310\, Germany
CATEGORIES:Alfaclub Regionaltreff,Thüringen
END:VEVENT
BEGIN:VEVENT
DTSTART;TZID=Europe/Berlin:20240210T183000
DTEND;TZID=Europe/Berlin:20240210T183000
DTSTAMP:20260422T145843
CREATED:20231020T212247Z
LAST-MODIFIED:20260106T114558Z
UID:10001969-1707589800-1707589800@alfaclub.de
SUMMARY:Regionaltreff Thüringen
DESCRIPTION:
URL:https://alfaclub.de/event/regionaltreff-thueringen/2024-02-10
LOCATION:Ristorante 12 Apostel\, Rosenstraße 2\, Arnstadt\, 99310\, Germany
CATEGORIES:Alfaclub Regionaltreff,Thüringen
END:VEVENT
BEGIN:VEVENT
DTSTART;TZID=Europe/Berlin:20240113T183000
DTEND;TZID=Europe/Berlin:20240113T183000
DTSTAMP:20260422T145843
CREATED:20231020T212247Z
LAST-MODIFIED:20260106T114558Z
UID:10001968-1705170600-1705170600@alfaclub.de
SUMMARY:Regionaltreff Thüringen
DESCRIPTION:
URL:https://alfaclub.de/event/regionaltreff-thueringen/2024-01-13
LOCATION:Ristorante 12 Apostel\, Rosenstraße 2\, Arnstadt\, 99310\, Germany
CATEGORIES:Alfaclub Regionaltreff,Thüringen
END:VEVENT
BEGIN:VEVENT
DTSTART;TZID=Europe/Berlin:20231209T183000
DTEND;TZID=Europe/Berlin:20231209T183000
DTSTAMP:20260422T145843
CREATED:20231020T212247Z
LAST-MODIFIED:20260106T114558Z
UID:10001967-1702146600-1702146600@alfaclub.de
SUMMARY:Regionaltreff Thüringen
DESCRIPTION:
URL:https://alfaclub.de/event/regionaltreff-thueringen/2023-12-09
LOCATION:Ristorante 12 Apostel\, Rosenstraße 2\, Arnstadt\, 99310\, Germany
CATEGORIES:Alfaclub Regionaltreff,Thüringen
END:VEVENT
BEGIN:VEVENT
DTSTART;TZID=Europe/Berlin:20231111T183000
DTEND;TZID=Europe/Berlin:20231111T183000
DTSTAMP:20260422T145843
CREATED:20231020T212247Z
LAST-MODIFIED:20260106T114558Z
UID:10001966-1699727400-1699727400@alfaclub.de
SUMMARY:Regionaltreff Thüringen
DESCRIPTION:
URL:https://alfaclub.de/event/regionaltreff-thueringen/2023-11-11
LOCATION:Ristorante 12 Apostel\, Rosenstraße 2\, Arnstadt\, 99310\, Germany
CATEGORIES:Alfaclub Regionaltreff,Thüringen
END:VEVENT
END:VCALENDAR