BEGIN:VCALENDAR
VERSION:2.0
PRODID:-//Alfaclub e.V. - ECPv6.15.20//NONSGML v1.0//EN
CALSCALE:GREGORIAN
METHOD:PUBLISH
X-ORIGINAL-URL:https://alfaclub.de
X-WR-CALDESC:Veranstaltungen für Alfaclub e.V.
REFRESH-INTERVAL;VALUE=DURATION:PT1H
X-Robots-Tag:noindex
X-PUBLISHED-TTL:PT1H
BEGIN:VTIMEZONE
TZID:Europe/Berlin
BEGIN:DAYLIGHT
TZOFFSETFROM:+0100
TZOFFSETTO:+0200
TZNAME:CEST
DTSTART:20220327T010000
END:DAYLIGHT
BEGIN:STANDARD
TZOFFSETFROM:+0200
TZOFFSETTO:+0100
TZNAME:CET
DTSTART:20221030T010000
END:STANDARD
BEGIN:DAYLIGHT
TZOFFSETFROM:+0100
TZOFFSETTO:+0200
TZNAME:CEST
DTSTART:20230326T010000
END:DAYLIGHT
BEGIN:STANDARD
TZOFFSETFROM:+0200
TZOFFSETTO:+0100
TZNAME:CET
DTSTART:20231029T010000
END:STANDARD
BEGIN:DAYLIGHT
TZOFFSETFROM:+0100
TZOFFSETTO:+0200
TZNAME:CEST
DTSTART:20240331T010000
END:DAYLIGHT
BEGIN:STANDARD
TZOFFSETFROM:+0200
TZOFFSETTO:+0100
TZNAME:CET
DTSTART:20241027T010000
END:STANDARD
BEGIN:DAYLIGHT
TZOFFSETFROM:+0100
TZOFFSETTO:+0200
TZNAME:CEST
DTSTART:20250330T010000
END:DAYLIGHT
BEGIN:STANDARD
TZOFFSETFROM:+0200
TZOFFSETTO:+0100
TZNAME:CET
DTSTART:20251026T010000
END:STANDARD
BEGIN:DAYLIGHT
TZOFFSETFROM:+0100
TZOFFSETTO:+0200
TZNAME:CEST
DTSTART:20260329T010000
END:DAYLIGHT
BEGIN:STANDARD
TZOFFSETFROM:+0200
TZOFFSETTO:+0100
TZNAME:CET
DTSTART:20261025T010000
END:STANDARD
BEGIN:DAYLIGHT
TZOFFSETFROM:+0100
TZOFFSETTO:+0200
TZNAME:CEST
DTSTART:20270328T010000
END:DAYLIGHT
BEGIN:STANDARD
TZOFFSETFROM:+0200
TZOFFSETTO:+0100
TZNAME:CET
DTSTART:20271031T010000
END:STANDARD
END:VTIMEZONE
BEGIN:VEVENT
DTSTART;TZID=Europe/Berlin:20260403T200000
DTEND;TZID=Europe/Berlin:20260403T200000
DTSTAMP:20260422T181452
CREATED:20231020T211928Z
LAST-MODIFIED:20260106T114526Z
UID:10001934-1775246400-1775246400@alfaclub.de
SUMMARY:Regionaltreff Regensburg
DESCRIPTION:
URL:https://alfaclub.de/event/regionaltreff-regensburg/2026-04-03
LOCATION:Ristorante Pizzeria Mamma Rosa Abensberg\, Steinbruchstraße 1\, Abensberg\, 93326\, Germany
CATEGORIES:Alfaclub Regionaltreff,Regensburg
END:VEVENT
BEGIN:VEVENT
DTSTART;TZID=Europe/Berlin:20260306T200000
DTEND;TZID=Europe/Berlin:20260306T200000
DTSTAMP:20260422T181452
CREATED:20231020T211928Z
LAST-MODIFIED:20260106T114526Z
UID:10001933-1772827200-1772827200@alfaclub.de
SUMMARY:Regionaltreff Regensburg
DESCRIPTION:
URL:https://alfaclub.de/event/regionaltreff-regensburg/2026-03-06
LOCATION:Ristorante Pizzeria Mamma Rosa Abensberg\, Steinbruchstraße 1\, Abensberg\, 93326\, Germany
CATEGORIES:Alfaclub Regionaltreff,Regensburg
END:VEVENT
BEGIN:VEVENT
DTSTART;TZID=Europe/Berlin:20260206T200000
DTEND;TZID=Europe/Berlin:20260206T200000
DTSTAMP:20260422T181452
CREATED:20231020T211928Z
LAST-MODIFIED:20260106T114526Z
UID:10001932-1770408000-1770408000@alfaclub.de
SUMMARY:Regionaltreff Regensburg
DESCRIPTION:
URL:https://alfaclub.de/event/regionaltreff-regensburg/2026-02-06
LOCATION:Ristorante Pizzeria Mamma Rosa Abensberg\, Steinbruchstraße 1\, Abensberg\, 93326\, Germany
CATEGORIES:Alfaclub Regionaltreff,Regensburg
END:VEVENT
BEGIN:VEVENT
DTSTART;TZID=Europe/Berlin:20260102T200000
DTEND;TZID=Europe/Berlin:20260102T200000
DTSTAMP:20260422T181452
CREATED:20231020T211928Z
LAST-MODIFIED:20260106T114526Z
UID:10001931-1767384000-1767384000@alfaclub.de
SUMMARY:Regionaltreff Regensburg
DESCRIPTION:
URL:https://alfaclub.de/event/regionaltreff-regensburg/2026-01-02
LOCATION:Ristorante Pizzeria Mamma Rosa Abensberg\, Steinbruchstraße 1\, Abensberg\, 93326\, Germany
CATEGORIES:Alfaclub Regionaltreff,Regensburg
END:VEVENT
BEGIN:VEVENT
DTSTART;TZID=Europe/Berlin:20251205T200000
DTEND;TZID=Europe/Berlin:20251205T200000
DTSTAMP:20260422T181452
CREATED:20231020T211928Z
LAST-MODIFIED:20260106T114526Z
UID:10001930-1764964800-1764964800@alfaclub.de
SUMMARY:Regionaltreff Regensburg
DESCRIPTION:
URL:https://alfaclub.de/event/regionaltreff-regensburg/2025-12-05
LOCATION:Ristorante Pizzeria Mamma Rosa Abensberg\, Steinbruchstraße 1\, Abensberg\, 93326\, Germany
CATEGORIES:Alfaclub Regionaltreff,Regensburg
END:VEVENT
BEGIN:VEVENT
DTSTART;TZID=Europe/Berlin:20251107T200000
DTEND;TZID=Europe/Berlin:20251107T200000
DTSTAMP:20260422T181452
CREATED:20231020T211928Z
LAST-MODIFIED:20260106T114526Z
UID:10001929-1762545600-1762545600@alfaclub.de
SUMMARY:Regionaltreff Regensburg
DESCRIPTION:
URL:https://alfaclub.de/event/regionaltreff-regensburg/2025-11-07
LOCATION:Ristorante Pizzeria Mamma Rosa Abensberg\, Steinbruchstraße 1\, Abensberg\, 93326\, Germany
CATEGORIES:Alfaclub Regionaltreff,Regensburg
END:VEVENT
BEGIN:VEVENT
DTSTART;TZID=Europe/Berlin:20251003T200000
DTEND;TZID=Europe/Berlin:20251003T200000
DTSTAMP:20260422T181452
CREATED:20231020T211928Z
LAST-MODIFIED:20260106T114526Z
UID:10001928-1759521600-1759521600@alfaclub.de
SUMMARY:Regionaltreff Regensburg
DESCRIPTION:
URL:https://alfaclub.de/event/regionaltreff-regensburg/2025-10-03
LOCATION:Ristorante Pizzeria Mamma Rosa Abensberg\, Steinbruchstraße 1\, Abensberg\, 93326\, Germany
CATEGORIES:Alfaclub Regionaltreff,Regensburg
END:VEVENT
BEGIN:VEVENT
DTSTART;TZID=Europe/Berlin:20250905T200000
DTEND;TZID=Europe/Berlin:20250905T200000
DTSTAMP:20260422T181452
CREATED:20231020T211928Z
LAST-MODIFIED:20260106T114526Z
UID:10001927-1757102400-1757102400@alfaclub.de
SUMMARY:Regionaltreff Regensburg
DESCRIPTION:
URL:https://alfaclub.de/event/regionaltreff-regensburg/2025-09-05
LOCATION:Ristorante Pizzeria Mamma Rosa Abensberg\, Steinbruchstraße 1\, Abensberg\, 93326\, Germany
CATEGORIES:Alfaclub Regionaltreff,Regensburg
END:VEVENT
BEGIN:VEVENT
DTSTART;TZID=Europe/Berlin:20250801T200000
DTEND;TZID=Europe/Berlin:20250801T200000
DTSTAMP:20260422T181452
CREATED:20231020T211928Z
LAST-MODIFIED:20260106T114526Z
UID:10001926-1754078400-1754078400@alfaclub.de
SUMMARY:Regionaltreff Regensburg
DESCRIPTION:
URL:https://alfaclub.de/event/regionaltreff-regensburg/2025-08-01
LOCATION:Ristorante Pizzeria Mamma Rosa Abensberg\, Steinbruchstraße 1\, Abensberg\, 93326\, Germany
CATEGORIES:Alfaclub Regionaltreff,Regensburg
END:VEVENT
BEGIN:VEVENT
DTSTART;TZID=Europe/Berlin:20250704T200000
DTEND;TZID=Europe/Berlin:20250704T200000
DTSTAMP:20260422T181452
CREATED:20231020T211928Z
LAST-MODIFIED:20260106T114526Z
UID:10001925-1751659200-1751659200@alfaclub.de
SUMMARY:Regionaltreff Regensburg
DESCRIPTION:
URL:https://alfaclub.de/event/regionaltreff-regensburg/2025-07-04
LOCATION:Ristorante Pizzeria Mamma Rosa Abensberg\, Steinbruchstraße 1\, Abensberg\, 93326\, Germany
CATEGORIES:Alfaclub Regionaltreff,Regensburg
END:VEVENT
BEGIN:VEVENT
DTSTART;TZID=Europe/Berlin:20250606T200000
DTEND;TZID=Europe/Berlin:20250606T200000
DTSTAMP:20260422T181452
CREATED:20231020T211928Z
LAST-MODIFIED:20260106T114526Z
UID:10001924-1749240000-1749240000@alfaclub.de
SUMMARY:Regionaltreff Regensburg
DESCRIPTION:
URL:https://alfaclub.de/event/regionaltreff-regensburg/2025-06-06
LOCATION:Ristorante Pizzeria Mamma Rosa Abensberg\, Steinbruchstraße 1\, Abensberg\, 93326\, Germany
CATEGORIES:Alfaclub Regionaltreff,Regensburg
END:VEVENT
BEGIN:VEVENT
DTSTART;TZID=Europe/Berlin:20250502T200000
DTEND;TZID=Europe/Berlin:20250502T200000
DTSTAMP:20260422T181452
CREATED:20231020T211928Z
LAST-MODIFIED:20260106T114526Z
UID:10001923-1746216000-1746216000@alfaclub.de
SUMMARY:Regionaltreff Regensburg
DESCRIPTION:
URL:https://alfaclub.de/event/regionaltreff-regensburg/2025-05-02
LOCATION:Ristorante Pizzeria Mamma Rosa Abensberg\, Steinbruchstraße 1\, Abensberg\, 93326\, Germany
CATEGORIES:Alfaclub Regionaltreff,Regensburg
END:VEVENT
BEGIN:VEVENT
DTSTART;TZID=Europe/Berlin:20250404T200000
DTEND;TZID=Europe/Berlin:20250404T200000
DTSTAMP:20260422T181452
CREATED:20231020T211928Z
LAST-MODIFIED:20260106T114526Z
UID:10001922-1743796800-1743796800@alfaclub.de
SUMMARY:Regionaltreff Regensburg
DESCRIPTION:
URL:https://alfaclub.de/event/regionaltreff-regensburg/2025-04-04
LOCATION:Ristorante Pizzeria Mamma Rosa Abensberg\, Steinbruchstraße 1\, Abensberg\, 93326\, Germany
CATEGORIES:Alfaclub Regionaltreff,Regensburg
END:VEVENT
BEGIN:VEVENT
DTSTART;TZID=Europe/Berlin:20250307T200000
DTEND;TZID=Europe/Berlin:20250307T200000
DTSTAMP:20260422T181452
CREATED:20231020T211928Z
LAST-MODIFIED:20260106T114526Z
UID:10001921-1741377600-1741377600@alfaclub.de
SUMMARY:Regionaltreff Regensburg
DESCRIPTION:
URL:https://alfaclub.de/event/regionaltreff-regensburg/2025-03-07
LOCATION:Ristorante Pizzeria Mamma Rosa Abensberg\, Steinbruchstraße 1\, Abensberg\, 93326\, Germany
CATEGORIES:Alfaclub Regionaltreff,Regensburg
END:VEVENT
BEGIN:VEVENT
DTSTART;TZID=Europe/Berlin:20250207T200000
DTEND;TZID=Europe/Berlin:20250207T200000
DTSTAMP:20260422T181452
CREATED:20231020T211928Z
LAST-MODIFIED:20260106T114526Z
UID:10001920-1738958400-1738958400@alfaclub.de
SUMMARY:Regionaltreff Regensburg
DESCRIPTION:
URL:https://alfaclub.de/event/regionaltreff-regensburg/2025-02-07
LOCATION:Ristorante Pizzeria Mamma Rosa Abensberg\, Steinbruchstraße 1\, Abensberg\, 93326\, Germany
CATEGORIES:Alfaclub Regionaltreff,Regensburg
END:VEVENT
BEGIN:VEVENT
DTSTART;TZID=Europe/Berlin:20250103T200000
DTEND;TZID=Europe/Berlin:20250103T200000
DTSTAMP:20260422T181452
CREATED:20231020T211928Z
LAST-MODIFIED:20260106T114526Z
UID:10001919-1735934400-1735934400@alfaclub.de
SUMMARY:Regionaltreff Regensburg
DESCRIPTION:
URL:https://alfaclub.de/event/regionaltreff-regensburg/2025-01-03
LOCATION:Ristorante Pizzeria Mamma Rosa Abensberg\, Steinbruchstraße 1\, Abensberg\, 93326\, Germany
CATEGORIES:Alfaclub Regionaltreff,Regensburg
END:VEVENT
BEGIN:VEVENT
DTSTART;TZID=Europe/Berlin:20241206T200000
DTEND;TZID=Europe/Berlin:20241206T200000
DTSTAMP:20260422T181452
CREATED:20231020T211928Z
LAST-MODIFIED:20260106T114526Z
UID:10001918-1733515200-1733515200@alfaclub.de
SUMMARY:Regionaltreff Regensburg
DESCRIPTION:
URL:https://alfaclub.de/event/regionaltreff-regensburg/2024-12-06
LOCATION:Ristorante Pizzeria Mamma Rosa Abensberg\, Steinbruchstraße 1\, Abensberg\, 93326\, Germany
CATEGORIES:Alfaclub Regionaltreff,Regensburg
END:VEVENT
BEGIN:VEVENT
DTSTART;TZID=Europe/Berlin:20241101T200000
DTEND;TZID=Europe/Berlin:20241101T200000
DTSTAMP:20260422T181452
CREATED:20231020T211928Z
LAST-MODIFIED:20260106T114526Z
UID:10001917-1730491200-1730491200@alfaclub.de
SUMMARY:Regionaltreff Regensburg
DESCRIPTION:
URL:https://alfaclub.de/event/regionaltreff-regensburg/2024-11-01
LOCATION:Ristorante Pizzeria Mamma Rosa Abensberg\, Steinbruchstraße 1\, Abensberg\, 93326\, Germany
CATEGORIES:Alfaclub Regionaltreff,Regensburg
END:VEVENT
BEGIN:VEVENT
DTSTART;TZID=Europe/Berlin:20241004T200000
DTEND;TZID=Europe/Berlin:20241004T200000
DTSTAMP:20260422T181453
CREATED:20231020T211928Z
LAST-MODIFIED:20260106T114526Z
UID:10001916-1728072000-1728072000@alfaclub.de
SUMMARY:Regionaltreff Regensburg
DESCRIPTION:
URL:https://alfaclub.de/event/regionaltreff-regensburg/2024-10-04
LOCATION:Ristorante Pizzeria Mamma Rosa Abensberg\, Steinbruchstraße 1\, Abensberg\, 93326\, Germany
CATEGORIES:Alfaclub Regionaltreff,Regensburg
END:VEVENT
BEGIN:VEVENT
DTSTART;TZID=Europe/Berlin:20240906T200000
DTEND;TZID=Europe/Berlin:20240906T200000
DTSTAMP:20260422T181453
CREATED:20231020T211928Z
LAST-MODIFIED:20260106T114526Z
UID:10001915-1725652800-1725652800@alfaclub.de
SUMMARY:Regionaltreff Regensburg
DESCRIPTION:
URL:https://alfaclub.de/event/regionaltreff-regensburg/2024-09-06
LOCATION:Ristorante Pizzeria Mamma Rosa Abensberg\, Steinbruchstraße 1\, Abensberg\, 93326\, Germany
CATEGORIES:Alfaclub Regionaltreff,Regensburg
END:VEVENT
BEGIN:VEVENT
DTSTART;TZID=Europe/Berlin:20240802T200000
DTEND;TZID=Europe/Berlin:20240802T200000
DTSTAMP:20260422T181453
CREATED:20231020T211928Z
LAST-MODIFIED:20260106T114526Z
UID:10001914-1722628800-1722628800@alfaclub.de
SUMMARY:Regionaltreff Regensburg
DESCRIPTION:
URL:https://alfaclub.de/event/regionaltreff-regensburg/2024-08-02
LOCATION:Ristorante Pizzeria Mamma Rosa Abensberg\, Steinbruchstraße 1\, Abensberg\, 93326\, Germany
CATEGORIES:Alfaclub Regionaltreff,Regensburg
END:VEVENT
BEGIN:VEVENT
DTSTART;TZID=Europe/Berlin:20240705T200000
DTEND;TZID=Europe/Berlin:20240705T200000
DTSTAMP:20260422T181453
CREATED:20231020T211928Z
LAST-MODIFIED:20260106T114526Z
UID:10001913-1720209600-1720209600@alfaclub.de
SUMMARY:Regionaltreff Regensburg
DESCRIPTION:
URL:https://alfaclub.de/event/regionaltreff-regensburg/2024-07-05
LOCATION:Ristorante Pizzeria Mamma Rosa Abensberg\, Steinbruchstraße 1\, Abensberg\, 93326\, Germany
CATEGORIES:Alfaclub Regionaltreff,Regensburg
END:VEVENT
BEGIN:VEVENT
DTSTART;TZID=Europe/Berlin:20240607T200000
DTEND;TZID=Europe/Berlin:20240607T200000
DTSTAMP:20260422T181453
CREATED:20231020T211928Z
LAST-MODIFIED:20260106T114526Z
UID:10001912-1717790400-1717790400@alfaclub.de
SUMMARY:Regionaltreff Regensburg
DESCRIPTION:
URL:https://alfaclub.de/event/regionaltreff-regensburg/2024-06-07
LOCATION:Ristorante Pizzeria Mamma Rosa Abensberg\, Steinbruchstraße 1\, Abensberg\, 93326\, Germany
CATEGORIES:Alfaclub Regionaltreff,Regensburg
END:VEVENT
BEGIN:VEVENT
DTSTART;TZID=Europe/Berlin:20240503T200000
DTEND;TZID=Europe/Berlin:20240503T200000
DTSTAMP:20260422T181453
CREATED:20231020T211928Z
LAST-MODIFIED:20260106T114526Z
UID:10001911-1714766400-1714766400@alfaclub.de
SUMMARY:Regionaltreff Regensburg
DESCRIPTION:
URL:https://alfaclub.de/event/regionaltreff-regensburg/2024-05-03
LOCATION:Ristorante Pizzeria Mamma Rosa Abensberg\, Steinbruchstraße 1\, Abensberg\, 93326\, Germany
CATEGORIES:Alfaclub Regionaltreff,Regensburg
END:VEVENT
BEGIN:VEVENT
DTSTART;TZID=Europe/Berlin:20240405T200000
DTEND;TZID=Europe/Berlin:20240405T200000
DTSTAMP:20260422T181453
CREATED:20231020T211928Z
LAST-MODIFIED:20260106T114526Z
UID:10001910-1712347200-1712347200@alfaclub.de
SUMMARY:Regionaltreff Regensburg
DESCRIPTION:
URL:https://alfaclub.de/event/regionaltreff-regensburg/2024-04-05
LOCATION:Ristorante Pizzeria Mamma Rosa Abensberg\, Steinbruchstraße 1\, Abensberg\, 93326\, Germany
CATEGORIES:Alfaclub Regionaltreff,Regensburg
END:VEVENT
BEGIN:VEVENT
DTSTART;TZID=Europe/Berlin:20240301T200000
DTEND;TZID=Europe/Berlin:20240301T200000
DTSTAMP:20260422T181453
CREATED:20231020T211928Z
LAST-MODIFIED:20260106T114526Z
UID:10001909-1709323200-1709323200@alfaclub.de
SUMMARY:Regionaltreff Regensburg
DESCRIPTION:
URL:https://alfaclub.de/event/regionaltreff-regensburg/2024-03-01
LOCATION:Ristorante Pizzeria Mamma Rosa Abensberg\, Steinbruchstraße 1\, Abensberg\, 93326\, Germany
CATEGORIES:Alfaclub Regionaltreff,Regensburg
END:VEVENT
BEGIN:VEVENT
DTSTART;TZID=Europe/Berlin:20240202T200000
DTEND;TZID=Europe/Berlin:20240202T200000
DTSTAMP:20260422T181453
CREATED:20231020T211928Z
LAST-MODIFIED:20260106T114526Z
UID:10001908-1706904000-1706904000@alfaclub.de
SUMMARY:Regionaltreff Regensburg
DESCRIPTION:
URL:https://alfaclub.de/event/regionaltreff-regensburg/2024-02-02
LOCATION:Ristorante Pizzeria Mamma Rosa Abensberg\, Steinbruchstraße 1\, Abensberg\, 93326\, Germany
CATEGORIES:Alfaclub Regionaltreff,Regensburg
END:VEVENT
BEGIN:VEVENT
DTSTART;TZID=Europe/Berlin:20240105T200000
DTEND;TZID=Europe/Berlin:20240105T200000
DTSTAMP:20260422T181453
CREATED:20231020T211928Z
LAST-MODIFIED:20260106T114526Z
UID:10001907-1704484800-1704484800@alfaclub.de
SUMMARY:Regionaltreff Regensburg
DESCRIPTION:
URL:https://alfaclub.de/event/regionaltreff-regensburg/2024-01-05
LOCATION:Ristorante Pizzeria Mamma Rosa Abensberg\, Steinbruchstraße 1\, Abensberg\, 93326\, Germany
CATEGORIES:Alfaclub Regionaltreff,Regensburg
END:VEVENT
BEGIN:VEVENT
DTSTART;TZID=Europe/Berlin:20231201T200000
DTEND;TZID=Europe/Berlin:20231201T200000
DTSTAMP:20260422T181453
CREATED:20231020T211928Z
LAST-MODIFIED:20260106T114526Z
UID:10001906-1701460800-1701460800@alfaclub.de
SUMMARY:Regionaltreff Regensburg
DESCRIPTION:
URL:https://alfaclub.de/event/regionaltreff-regensburg/2023-12-01
LOCATION:Ristorante Pizzeria Mamma Rosa Abensberg\, Steinbruchstraße 1\, Abensberg\, 93326\, Germany
CATEGORIES:Alfaclub Regionaltreff,Regensburg
END:VEVENT
BEGIN:VEVENT
DTSTART;TZID=Europe/Berlin:20231103T200000
DTEND;TZID=Europe/Berlin:20231103T200000
DTSTAMP:20260422T181453
CREATED:20231020T211928Z
LAST-MODIFIED:20260106T114526Z
UID:10001905-1699041600-1699041600@alfaclub.de
SUMMARY:Regionaltreff Regensburg
DESCRIPTION:
URL:https://alfaclub.de/event/regionaltreff-regensburg/2023-11-03
LOCATION:Ristorante Pizzeria Mamma Rosa Abensberg\, Steinbruchstraße 1\, Abensberg\, 93326\, Germany
CATEGORIES:Alfaclub Regionaltreff,Regensburg
END:VEVENT
END:VCALENDAR